BEGIN:VCALENDAR
VERSION:2.0
PRODID:-//Live 360 Video - ECPv6.1.1//NONSGML v1.0//EN
CALSCALE:GREGORIAN
METHOD:PUBLISH
X-WR-CALNAME:Live 360 Video
X-ORIGINAL-URL:https://live360video.com
X-WR-CALDESC:Events for Live 360 Video
REFRESH-INTERVAL;VALUE=DURATION:PT1H
X-Robots-Tag:noindex
X-PUBLISHED-TTL:PT1H
BEGIN:VTIMEZONE
TZID:America/Los_Angeles
BEGIN:DAYLIGHT
TZOFFSETFROM:-0800
TZOFFSETTO:-0700
TZNAME:PDT
DTSTART:20180311T100000
END:DAYLIGHT
BEGIN:STANDARD
TZOFFSETFROM:-0700
TZOFFSETTO:-0800
TZNAME:PST
DTSTART:20181104T090000
END:STANDARD
END:VTIMEZONE
BEGIN:VEVENT
DTSTART;VALUE=DATE:20180614
DTEND;VALUE=DATE:20180716
DTSTAMP:20260420T041340
CREATED:20180611T075108Z
LAST-MODIFIED:20180620T074429Z
UID:10007632-1529010000-1531688399@live360video.com
SUMMARY:World Cup - Live in VR
DESCRIPTION:The BBC will trial broadcast 33 matches live in VR\, from the 2018 World Cup in Russia\, using BBC’s VR 2018 World Cup app The virtual BBC Sport box will allow viewers to watch the game as if they were in the stadium or behind the goalposts\, watching the action from close up. The broadcast will be compatible with Apple\, Android\, Gear VR\, Oculus Go and PlayStation VR devices. \n 
URL:https://live360video.com/vr-stream/world-cup-live-in-vr/
CATEGORIES:Soccer,Sports
ATTACH;FMTTYPE=image/jpeg:https://live360video.com/wp-content/uploads/2018/06/World-Cup-2018-Live-in-VR.jpg
END:VEVENT
END:VCALENDAR