BEGIN:VCALENDAR
VERSION:2.0
PRODID:-//Live 360 Video - ECPv6.1.1//NONSGML v1.0//EN
CALSCALE:GREGORIAN
METHOD:PUBLISH
X-WR-CALNAME:Live 360 Video
X-ORIGINAL-URL:https://live360video.com
X-WR-CALDESC:Events for Live 360 Video
REFRESH-INTERVAL;VALUE=DURATION:PT1H
X-Robots-Tag:noindex
X-PUBLISHED-TTL:PT1H
BEGIN:VTIMEZONE
TZID:America/Los_Angeles
BEGIN:DAYLIGHT
TZOFFSETFROM:-0800
TZOFFSETTO:-0700
TZNAME:PDT
DTSTART:20190310T100000
END:DAYLIGHT
BEGIN:STANDARD
TZOFFSETFROM:-0700
TZOFFSETTO:-0800
TZNAME:PST
DTSTART:20191103T090000
END:STANDARD
END:VTIMEZONE
BEGIN:VEVENT
DTSTART;TZID=America/Los_Angeles:20190420T162000
DTEND;TZID=America/Los_Angeles:20190420T180000
DTSTAMP:20260425T054738
CREATED:20190318T121657Z
LAST-MODIFIED:20190318T122243Z
UID:10007741-1555777200-1555783200@live360video.com
SUMMARY:UCB: Pot Humor
DESCRIPTION:UCB: Pot Humor with UCB founder and comedian Matt Besser\, performing his own material and presenting comedians sure to make you chuckle and possibly freak\, live in vr! Available exclusively using Oculus Go and Gear.
URL:https://live360video.com/vr-stream/ucb-pot-humor/
LOCATION:UCB Theatre\, 555 W 42nd St\, New York\, NY\, NY 10036\, United States
CATEGORIES:Comedy,Entertainment
ATTACH;FMTTYPE=image/png:https://live360video.com/wp-content/uploads/2019/03/UCB-Pot-Humoor-Live-in-VR.png
GEO:40.760855;-73.9977405
X-APPLE-STRUCTURED-LOCATION;VALUE=URI;X-ADDRESS=UCB Theatre 555 W 42nd St New York NY NY 10036 United States;X-APPLE-RADIUS=500;X-TITLE=555 W 42nd St:geo:-73.9977405,40.760855
END:VEVENT
BEGIN:VEVENT
DTSTART;TZID=America/Los_Angeles:20190420T190000
DTEND;TZID=America/Los_Angeles:20190420T210000
DTSTAMP:20260425T054738
CREATED:20190318T122226Z
LAST-MODIFIED:20190318T122529Z
UID:10007743-1555786800-1555794000@live360video.com
SUMMARY:UCB: I'm Too Effing High - Live in VR
DESCRIPTION:UCB: I’m Too Effing High – Live in vr with James Mastraieni hosting a panel of some of LA’s best comedians with comedic challenges throughout including “HIGHpothetical Situation” and “Stoned Standup”. Available exclusively on Oculus Go and Gear.
URL:https://live360video.com/vr-stream/ucb-im-too-effing-high-live-in-vr/
LOCATION:UCB Theatre\, 555 W 42nd St\, New York\, NY\, NY 10036\, United States
CATEGORIES:Comedy,Entertainment
ATTACH;FMTTYPE=image/png:https://live360video.com/wp-content/uploads/2019/03/UCB-Im-too-Effing-High-Live-in-VR.png
GEO:40.760855;-73.9977405
X-APPLE-STRUCTURED-LOCATION;VALUE=URI;X-ADDRESS=UCB Theatre 555 W 42nd St New York NY NY 10036 United States;X-APPLE-RADIUS=500;X-TITLE=555 W 42nd St:geo:-73.9977405,40.760855
END:VEVENT
END:VCALENDAR