BEGIN:VCALENDAR
VERSION:2.0
PRODID:-//Live 360 Video - ECPv6.1.1//NONSGML v1.0//EN
CALSCALE:GREGORIAN
METHOD:PUBLISH
X-WR-CALNAME:Live 360 Video
X-ORIGINAL-URL:https://live360video.com
X-WR-CALDESC:Events for Live 360 Video
REFRESH-INTERVAL;VALUE=DURATION:PT1H
X-Robots-Tag:noindex
X-PUBLISHED-TTL:PT1H
BEGIN:VTIMEZONE
TZID:America/Los_Angeles
BEGIN:DAYLIGHT
TZOFFSETFROM:-0800
TZOFFSETTO:-0700
TZNAME:PDT
DTSTART:20190310T100000
END:DAYLIGHT
BEGIN:STANDARD
TZOFFSETFROM:-0700
TZOFFSETTO:-0800
TZNAME:PST
DTSTART:20191103T090000
END:STANDARD
END:VTIMEZONE
BEGIN:VEVENT
DTSTART;TZID=America/Los_Angeles:20190902T170000
DTEND;TZID=America/Los_Angeles:20190902T190000
DTSTAMP:20260421T235959
CREATED:20190823T083024Z
LAST-MODIFIED:20190903T083804Z
UID:10008034-1567443600-1567450800@live360video.com
SUMMARY:Wood & Wire - In Concert - Live in VR
DESCRIPTION:Grammy-nominated artist Wood & Wire perform their Bluegrass album in an unmissable concert! Available on all NextVR app platforms
URL:https://live360video.com/vr-stream/wood-wire-in-concert-live-in-vr/
CATEGORIES:Concerts & Festivals
ATTACH;FMTTYPE=image/jpeg:https://live360video.com/wp-content/uploads/2019/08/Wood-Wire-Live-in-VR.jpeg
END:VEVENT
END:VCALENDAR