BEGIN:VCALENDAR
VERSION:2.0
PRODID:-//Live 360 Video - ECPv6.1.1//NONSGML v1.0//EN
CALSCALE:GREGORIAN
METHOD:PUBLISH
X-ORIGINAL-URL:https://live360video.com
X-WR-CALDESC:Events for Live 360 Video
REFRESH-INTERVAL;VALUE=DURATION:PT1H
X-Robots-Tag:noindex
X-PUBLISHED-TTL:PT1H
BEGIN:VTIMEZONE
TZID:America/Los_Angeles
BEGIN:DAYLIGHT
TZOFFSETFROM:-0800
TZOFFSETTO:-0700
TZNAME:PDT
DTSTART:20190310T100000
END:DAYLIGHT
BEGIN:STANDARD
TZOFFSETFROM:-0700
TZOFFSETTO:-0800
TZNAME:PST
DTSTART:20191103T090000
END:STANDARD
END:VTIMEZONE
BEGIN:VEVENT
DTSTART;TZID=America/Los_Angeles:20190904T170000
DTEND;TZID=America/Los_Angeles:20190904T200000
DTSTAMP:20260423T012432
CREATED:20190823T084750Z
LAST-MODIFIED:20190903T210157Z
UID:10008035-1567616400-1567627200@live360video.com
SUMMARY:UCB: An Evening of Comedy & Magic - Live in VR
DESCRIPTION:UCB: An Evening of Comedy & Magic Live in VR from Sunset Blvd. in Los Angeles\, where the famous UCB Theater fuses two beloved genres for an evening of sketch comedy and magic! Available on NextVR app platforms. \n 
URL:https://live360video.com/vr-stream/ucb-an-evening-of-comedy-magic-live-in-vr/
LOCATION:UCB Theatre\, 555 W 42nd St\, New York\, NY\, NY 10036\, United States
CATEGORIES:Comedy,Entertainment
ATTACH;FMTTYPE=image/png:https://live360video.com/wp-content/uploads/2019/08/UCB-Comedy-Magic-Live-in-VR.png
GEO:40.760855;-73.9977405
X-APPLE-STRUCTURED-LOCATION;VALUE=URI;X-ADDRESS=UCB Theatre 555 W 42nd St New York NY NY 10036 United States;X-APPLE-RADIUS=500;X-TITLE=555 W 42nd St:geo:-73.9977405,40.760855
END:VEVENT
END:VCALENDAR