BEGIN:VCALENDAR
VERSION:2.0
PRODID:-//Live 360 Video - ECPv6.1.1//NONSGML v1.0//EN
CALSCALE:GREGORIAN
METHOD:PUBLISH
X-ORIGINAL-URL:https://live360video.com
X-WR-CALDESC:Events for Live 360 Video
REFRESH-INTERVAL;VALUE=DURATION:PT1H
X-Robots-Tag:noindex
X-PUBLISHED-TTL:PT1H
BEGIN:VTIMEZONE
TZID:America/Los_Angeles
BEGIN:DAYLIGHT
TZOFFSETFROM:-0800
TZOFFSETTO:-0700
TZNAME:PDT
DTSTART:20190310T100000
END:DAYLIGHT
BEGIN:STANDARD
TZOFFSETFROM:-0700
TZOFFSETTO:-0800
TZNAME:PST
DTSTART:20191103T090000
END:STANDARD
END:VTIMEZONE
BEGIN:VEVENT
DTSTART;TZID=America/Los_Angeles:20190911T170000
DTEND;TZID=America/Los_Angeles:20190911T190000
DTSTAMP:20260422T200315
CREATED:20181004T140942Z
LAST-MODIFIED:20190903T074405Z
UID:10007851-1568221200-1568228400@live360video.com
SUMMARY:Batsu! - Live in VR
DESCRIPTION:Japanese Game Show Batsu! is live in vr in underground lounge theatre in New York’s Little Tokyo. Four contestants compete in hilarious challenges and shocking punishments! Enjoy the fun using Gear VR and Oculus Go.
URL:https://live360video.com/vr-stream/batsu-live-in-vr/2019-09-11/
LOCATION:BATSU!\, 15 St Marks Pl\, New York City\, NY\, NY 10003\,\, United States
CATEGORIES:Comedy,Entertainment,TV
ATTACH;FMTTYPE=image/png:https://live360video.com/wp-content/uploads/2018/10/BATSU-Live-in-VR-1024x408-1.png
GEO:40.729263;-73.988884
X-APPLE-STRUCTURED-LOCATION;VALUE=URI;X-ADDRESS=BATSU! 15 St Marks Pl New York City NY NY 10003 United States;X-APPLE-RADIUS=500;X-TITLE=15 St Marks Pl:geo:-73.988884,40.729263
END:VEVENT
END:VCALENDAR