BEGIN:VCALENDAR
VERSION:2.0
PRODID:-//Live 360 Video - ECPv6.1.1//NONSGML v1.0//EN
CALSCALE:GREGORIAN
METHOD:PUBLISH
X-WR-CALNAME:Live 360 Video
X-ORIGINAL-URL:https://live360video.com
X-WR-CALDESC:Events for Live 360 Video
REFRESH-INTERVAL;VALUE=DURATION:PT1H
X-Robots-Tag:noindex
X-PUBLISHED-TTL:PT1H
BEGIN:VTIMEZONE
TZID:America/Los_Angeles
BEGIN:DAYLIGHT
TZOFFSETFROM:-0800
TZOFFSETTO:-0700
TZNAME:PDT
DTSTART:20190310T100000
END:DAYLIGHT
BEGIN:STANDARD
TZOFFSETFROM:-0700
TZOFFSETTO:-0800
TZNAME:PST
DTSTART:20191103T090000
END:STANDARD
END:VTIMEZONE
BEGIN:VEVENT
DTSTART;TZID=America/Los_Angeles:20190913T170000
DTEND;TZID=America/Los_Angeles:20190913T193000
DTSTAMP:20260423T190310
CREATED:20190415T081447Z
LAST-MODIFIED:20190903T074623Z
UID:10008014-1568394000-1568403000@live360video.com
SUMMARY:UCB: Fyre Island – A Musical - Live in VR
DESCRIPTION:Watch the comedy performance of Fyre Island – A Musical\, live in vr from the UCB Theater on Sunset Blvd in LA. UCB Comedy brings together an all star cast to present a warped musical version of the now infamous Fyre Festival! Available exclusively on Oculus Go and Gear.
URL:https://live360video.com/vr-stream/ucb-fyre-island-a-musical-live-in-vr/2019-09-13/
LOCATION:UCB Theatre\, 555 W 42nd St\, New York\, NY\, NY 10036\, United States
CATEGORIES:Comedy,Entertainment
ATTACH;FMTTYPE=image/png:https://live360video.com/wp-content/uploads/2019/04/UCB-Mothers-Day-Special-Live-in-VR.png
GEO:40.760855;-73.9977405
X-APPLE-STRUCTURED-LOCATION;VALUE=URI;X-ADDRESS=UCB Theatre 555 W 42nd St New York NY NY 10036 United States;X-APPLE-RADIUS=500;X-TITLE=555 W 42nd St:geo:-73.9977405,40.760855
END:VEVENT
END:VCALENDAR