BEGIN:VCALENDAR
VERSION:2.0
PRODID:-//Live 360 Video - ECPv6.1.1//NONSGML v1.0//EN
CALSCALE:GREGORIAN
METHOD:PUBLISH
X-ORIGINAL-URL:https://live360video.com
X-WR-CALDESC:Events for Live 360 Video
REFRESH-INTERVAL;VALUE=DURATION:PT1H
X-Robots-Tag:noindex
X-PUBLISHED-TTL:PT1H
BEGIN:VTIMEZONE
TZID:America/Los_Angeles
BEGIN:DAYLIGHT
TZOFFSETFROM:-0800
TZOFFSETTO:-0700
TZNAME:PDT
DTSTART:20190310T100000
END:DAYLIGHT
BEGIN:STANDARD
TZOFFSETFROM:-0700
TZOFFSETTO:-0800
TZNAME:PST
DTSTART:20191103T090000
END:STANDARD
END:VTIMEZONE
BEGIN:VEVENT
DTSTART;TZID=America/Los_Angeles:20190914T170000
DTEND;TZID=America/Los_Angeles:20190914T193000
DTSTAMP:20260421T085501
CREATED:20190318T120655Z
LAST-MODIFIED:20190903T074641Z
UID:10007739-1568480400-1568489400@live360video.com
SUMMARY:UCB: All-Star Sketch Show – SQUADRON - Live in VR
DESCRIPTION:The UCB: All-Star Sketch Show – SQUADRON takes place at the UCB Theater on Sunset Blvd. in Los Angeles. Watch an all-star comedian cast\, showcasing the very best in American sketch comedy\, live in vr! Available on all NextVR app platforms.
URL:https://live360video.com/vr-stream/ucb-all-star-sketch-show-squadron-live-in-vr/2019-09-14/
LOCATION:UCB Theatre\, 555 W 42nd St\, New York\, NY\, NY 10036\, United States
CATEGORIES:Comedy,Entertainment
ATTACH;FMTTYPE=image/png:https://live360video.com/wp-content/uploads/2019/03/UCB-Comedy-Live-in-VR.png
GEO:40.760855;-73.9977405
X-APPLE-STRUCTURED-LOCATION;VALUE=URI;X-ADDRESS=UCB Theatre 555 W 42nd St New York NY NY 10036 United States;X-APPLE-RADIUS=500;X-TITLE=555 W 42nd St:geo:-73.9977405,40.760855
END:VEVENT
BEGIN:VEVENT
DTSTART;TZID=America/Los_Angeles:20190914T204500
DTEND;TZID=America/Los_Angeles:20190914T220000
DTSTAMP:20260421T085501
CREATED:20190909T132308Z
LAST-MODIFIED:20190909T132308Z
UID:10008063-1568493900-1568498400@live360video.com
SUMMARY:H.E.R. in Concert - Live in VR
DESCRIPTION:Join the GRAMMY award winning H.E.R. at the launch of her very own inaugural Lights On Festival in Concord\, California on September 14\, live in vr from the Concord Pavilion. Available via Oculus Venues courtesy of Supersphere.
URL:https://live360video.com/vr-stream/h-e-r-in-concert-live-in-vr/
LOCATION:Corncord Pavillion\, 2000 Kirker Pass Rd\,\, Concord\,\, CA\, CA 94521\, United States
CATEGORIES:Concerts & Festivals
ATTACH;FMTTYPE=image/png:https://live360video.com/wp-content/uploads/2019/09/H.E.R.-in-Concert-Live-in-VR.png
GEO:37.959729;-121.9382308
X-APPLE-STRUCTURED-LOCATION;VALUE=URI;X-ADDRESS=Corncord Pavillion 2000 Kirker Pass Rd Concord CA CA 94521 United States;X-APPLE-RADIUS=500;X-TITLE=2000 Kirker Pass Rd\,:geo:-121.9382308,37.959729
END:VEVENT
END:VCALENDAR