BEGIN:VCALENDAR
VERSION:2.0
PRODID:-//Live 360 Video - ECPv6.1.1//NONSGML v1.0//EN
CALSCALE:GREGORIAN
METHOD:PUBLISH
X-WR-CALNAME:Live 360 Video
X-ORIGINAL-URL:https://live360video.com
X-WR-CALDESC:Events for Live 360 Video
REFRESH-INTERVAL;VALUE=DURATION:PT1H
X-Robots-Tag:noindex
X-PUBLISHED-TTL:PT1H
BEGIN:VTIMEZONE
TZID:America/Los_Angeles
BEGIN:DAYLIGHT
TZOFFSETFROM:-0800
TZOFFSETTO:-0700
TZNAME:PDT
DTSTART:20190310T100000
END:DAYLIGHT
BEGIN:STANDARD
TZOFFSETFROM:-0700
TZOFFSETTO:-0800
TZNAME:PST
DTSTART:20191103T090000
END:STANDARD
END:VTIMEZONE
BEGIN:VEVENT
DTSTART;TZID=America/Los_Angeles:20190928T170000
DTEND;TZID=America/Los_Angeles:20190928T190000
DTSTAMP:20260422T050954
CREATED:20190903T082133Z
LAST-MODIFIED:20190903T083157Z
UID:10008056-1569690000-1569697200@live360video.com
SUMMARY:Best of the NHRA - Live in VR
DESCRIPTION:Experience all the noise\, combustion\, power and explosions with the best of the National Hot Rod Association. Available on NextVR app platforms. \n 
URL:https://live360video.com/vr-stream/best-of-the-nhra-live-in-vr/
CATEGORIES:Misc.,Sports
ATTACH;FMTTYPE=image/png:https://live360video.com/wp-content/uploads/2019/01/National-Hot-Rod-Association-Top-Fuel-Highlights-from-2018-Finals.png
END:VEVENT
END:VCALENDAR