BEGIN:VCALENDAR
VERSION:2.0
PRODID:-//Live 360 Video - ECPv6.1.1//NONSGML v1.0//EN
CALSCALE:GREGORIAN
METHOD:PUBLISH
X-WR-CALNAME:Live 360 Video
X-ORIGINAL-URL:https://live360video.com
X-WR-CALDESC:Events for Live 360 Video
REFRESH-INTERVAL;VALUE=DURATION:PT1H
X-Robots-Tag:noindex
X-PUBLISHED-TTL:PT1H
BEGIN:VTIMEZONE
TZID:America/Los_Angeles
BEGIN:DAYLIGHT
TZOFFSETFROM:-0800
TZOFFSETTO:-0700
TZNAME:PDT
DTSTART:20190310T100000
END:DAYLIGHT
BEGIN:STANDARD
TZOFFSETFROM:-0700
TZOFFSETTO:-0800
TZNAME:PST
DTSTART:20191103T090000
END:STANDARD
END:VTIMEZONE
BEGIN:VEVENT
DTSTART;TZID=America/Los_Angeles:20190929T123000
DTEND;TZID=America/Los_Angeles:20190929T153000
DTSTAMP:20260422T050951
CREATED:20190928T104704Z
LAST-MODIFIED:20190930T110116Z
UID:10008064-1569760200-1569771000@live360video.com
SUMMARY:ESL One New York 2019 - Live in VR
DESCRIPTION:The leading Esports event ESL One New York 2019 Grand Final powered by Intel will be available live in VR at the Barclays Center in New York on Oculus Venues on Oculus Quest and Oculus Go.
URL:https://live360video.com/vr-stream/esl-one-new-york-2019-live-in-vr/
LOCATION:Barclays Center\, 620 Atlantic Ave\, Brooklyn\, 11217\, United States
CATEGORIES:eSports
ATTACH;FMTTYPE=image/png:https://live360video.com/wp-content/uploads/2019/09/ESL-One-New-York-2019-Live-in-VR.png
GEO:40.6826571;-73.9752822
X-APPLE-STRUCTURED-LOCATION;VALUE=URI;X-ADDRESS=Barclays Center 620 Atlantic Ave Brooklyn 11217 United States;X-APPLE-RADIUS=500;X-TITLE=620 Atlantic Ave:geo:-73.9752822,40.6826571
END:VEVENT
BEGIN:VEVENT
DTSTART;TZID=America/Los_Angeles:20190929T170000
DTEND;TZID=America/Los_Angeles:20190929T180000
DTSTAMP:20260422T050951
CREATED:20190827T091924Z
LAST-MODIFIED:20190903T075144Z
UID:10008043-1569776400-1569780000@live360video.com
SUMMARY:Paranormal Evidence – Pennhurst Asylum - Live in VR
DESCRIPTION:Follow the Paranormal Evidence team of investigators through one of North America’s most haunted locations\, the Pennhurst Asylum. Discover what lurks in the darkness live in vr. Available on all NextVR app platforms.
URL:https://live360video.com/vr-stream/paranormal-evidence-pennhurst-asylum-live-in-vr/2019-09-29/
CATEGORIES:Entertainment,TV
ATTACH;FMTTYPE=image/jpeg:https://live360video.com/wp-content/uploads/2019/08/Paranormal-Evidence-–-Pennhurst-Asylum-Live-in-VR.jpg
END:VEVENT
END:VCALENDAR