BEGIN:VCALENDAR
VERSION:2.0
PRODID:-//Live 360 Video - ECPv6.1.1//NONSGML v1.0//EN
CALSCALE:GREGORIAN
METHOD:PUBLISH
X-WR-CALNAME:Live 360 Video
X-ORIGINAL-URL:https://live360video.com
X-WR-CALDESC:Events for Live 360 Video
REFRESH-INTERVAL;VALUE=DURATION:PT1H
X-Robots-Tag:noindex
X-PUBLISHED-TTL:PT1H
BEGIN:VTIMEZONE
TZID:America/Los_Angeles
BEGIN:DAYLIGHT
TZOFFSETFROM:-0800
TZOFFSETTO:-0700
TZNAME:PDT
DTSTART:20190310T100000
END:DAYLIGHT
BEGIN:STANDARD
TZOFFSETFROM:-0700
TZOFFSETTO:-0800
TZNAME:PST
DTSTART:20191103T090000
END:STANDARD
END:VTIMEZONE
BEGIN:VEVENT
DTSTART;TZID=America/Los_Angeles:20191111T193000
DTEND;TZID=America/Los_Angeles:20191111T223000
DTSTAMP:20260425T102505
CREATED:20191007T125815Z
LAST-MODIFIED:20191007T134246Z
UID:10008068-1573500600-1573511400@live360video.com
SUMMARY:Utah Jazz at Golden State Warriors - Live in VR
DESCRIPTION:Utah Jazz take on Golden State Warriors at the Chase Center in San Francisco. This game is live in vr and available on all NextVR platforms for free if you have purchased the NBA League Pass (US).
URL:https://live360video.com/vr-stream/utah-jazz-at-golden-state-warriors-live-in-vr/
LOCATION:Chase Center\, 1 Warriors Way\, San Francisco\, CA\, CA 94158\, United States
CATEGORIES:Basketball,Sports
ATTACH;FMTTYPE=image/jpeg:https://live360video.com/wp-content/uploads/2019/10/Utah-Jazz-at-Golden-State-Warriors-Live-in-VR.jpeg
GEO:37.7673573;-122.3869902
X-APPLE-STRUCTURED-LOCATION;VALUE=URI;X-ADDRESS=Chase Center 1 Warriors Way San Francisco CA CA 94158 United States;X-APPLE-RADIUS=500;X-TITLE=1 Warriors Way:geo:-122.3869902,37.7673573
END:VEVENT
END:VCALENDAR