BEGIN:VCALENDAR
VERSION:2.0
PRODID:-//Live 360 Video - ECPv6.1.1//NONSGML v1.0//EN
CALSCALE:GREGORIAN
METHOD:PUBLISH
X-WR-CALNAME:Live 360 Video
X-ORIGINAL-URL:https://live360video.com
X-WR-CALDESC:Events for Live 360 Video
REFRESH-INTERVAL;VALUE=DURATION:PT1H
X-Robots-Tag:noindex
X-PUBLISHED-TTL:PT1H
BEGIN:VTIMEZONE
TZID:America/Los_Angeles
BEGIN:DAYLIGHT
TZOFFSETFROM:-0800
TZOFFSETTO:-0700
TZNAME:PDT
DTSTART:20190310T100000
END:DAYLIGHT
BEGIN:STANDARD
TZOFFSETFROM:-0700
TZOFFSETTO:-0800
TZNAME:PST
DTSTART:20191103T090000
END:STANDARD
END:VTIMEZONE
BEGIN:VEVENT
DTSTART;TZID=America/Los_Angeles:20190923T170000
DTEND;TZID=America/Los_Angeles:20190923T190000
DTSTAMP:20260419T143103
CREATED:20190130T114344Z
LAST-MODIFIED:20190903T075025Z
UID:10007965-1569258000-1569265200@live360video.com
SUMMARY:RJD2 - Live in VR
DESCRIPTION:RJD2 performs live in VR in Seattle. Join the audience and experience this talented Producer\, Song Writer\, and DJ RJD2 who will showcase his hit tracks\, including Ghostwriter! Available via the Next VR App for Oculus Go and other major VR headsets. \n  \n 
URL:https://live360video.com/vr-stream/rjd2-live-in-vr/2019-09-23/
CATEGORIES:Concerts & Festivals
ATTACH;FMTTYPE=image/jpeg:https://live360video.com/wp-content/uploads/2019/01/RJD2-Live-in-VR.jpg
END:VEVENT
BEGIN:VEVENT
DTSTART;TZID=America/Los_Angeles:20190924T170000
DTEND;TZID=America/Los_Angeles:20190924T190000
DTSTAMP:20260419T143103
CREATED:20190903T081207Z
LAST-MODIFIED:20190903T081244Z
UID:10008054-1569344400-1569351600@live360video.com
SUMMARY:Sound Cipher in Concert - Live in VR
DESCRIPTION:Experience one of Seattle’s best known local bands Sound Cipher\, who will perform their typically drum-heavy synth sound\, live in vr. Available on NextVR app platforms.
URL:https://live360video.com/vr-stream/sound-cipher-in-concert-live-in-vr/
CATEGORIES:Concerts & Festivals
ATTACH;FMTTYPE=image/jpeg:https://live360video.com/wp-content/uploads/2019/09/Sound-Cipher-in-Concert-Live-in-VR.jpg
END:VEVENT
BEGIN:VEVENT
DTSTART;TZID=America/Los_Angeles:20190927T170000
DTEND;TZID=America/Los_Angeles:20190927T190000
DTSTAMP:20260419T143103
CREATED:20190130T111639Z
LAST-MODIFIED:20190903T075234Z
UID:10007962-1569603600-1569610800@live360video.com
SUMMARY:Watsky - Live in VR
DESCRIPTION:The Watsky concert from the Fox Theater in Boulder\, Colorado can be experienced live in VR! Enjoy amazing and original music from the extraordinary rapper\, writer and performer\, Watsky. Available via the Next VR App for Oculus Go and other major VR headsets.
URL:https://live360video.com/vr-stream/watsky-live-in-vr/2019-09-27/
LOCATION:The Fox Theater\, 1135 13th St\, Boulder\, CO\, CO 80302\, United States
CATEGORIES:Concerts & Festivals
ATTACH;FMTTYPE=image/png:https://live360video.com/wp-content/uploads/2019/01/Watsky-Live-in-VR.png
GEO:40.008054;-105.276381
X-APPLE-STRUCTURED-LOCATION;VALUE=URI;X-ADDRESS=The Fox Theater 1135 13th St Boulder CO CO 80302 United States;X-APPLE-RADIUS=500;X-TITLE=1135 13th St:geo:-105.276381,40.008054
END:VEVENT
END:VCALENDAR