BEGIN:VCALENDAR
VERSION:2.0
PRODID:-//Live 360 Video - ECPv6.1.1//NONSGML v1.0//EN
CALSCALE:GREGORIAN
METHOD:PUBLISH
X-WR-CALNAME:Live 360 Video
X-ORIGINAL-URL:https://live360video.com
X-WR-CALDESC:Events for Live 360 Video
REFRESH-INTERVAL;VALUE=DURATION:PT1H
X-Robots-Tag:noindex
X-PUBLISHED-TTL:PT1H
BEGIN:VTIMEZONE
TZID:America/Los_Angeles
BEGIN:DAYLIGHT
TZOFFSETFROM:-0800
TZOFFSETTO:-0700
TZNAME:PDT
DTSTART:20210314T100000
END:DAYLIGHT
BEGIN:STANDARD
TZOFFSETFROM:-0700
TZOFFSETTO:-0800
TZNAME:PST
DTSTART:20211107T090000
END:STANDARD
END:VTIMEZONE
BEGIN:VEVENT
DTSTART;TZID=America/Los_Angeles:20210401T170000
DTEND;TZID=America/Los_Angeles:20210401T173000
DTSTAMP:20260425T171828
CREATED:20210322T130522Z
LAST-MODIFIED:20210322T130641Z
UID:10008146-1617296400-1617298200@live360video.com
SUMMARY:Casey Sapp Underwater Explorations - Live in VR
DESCRIPTION:One of the world’s preeminent underwater camera inventors and producers\, Casey Sapp\, embarks on an underwater adventure that includes swimming with sharks and experiencing the awesome natural beauty of the Neptune Memorial Reef. \nWatch live in vr via Oculus Venues and Supersphere.
URL:https://live360video.com/vr-stream/casey-sapp-underwater-explorations-live-in-vr/
LOCATION:Online Event\, United States
CATEGORIES:Documentary,Entertainment
ATTACH;FMTTYPE=image/jpeg:https://live360video.com/wp-content/uploads/2021/03/Underwater-Explorations-Casey-Sapp-Live-in-VR.jpeg
GEO:37.09024;-95.712891
END:VEVENT
BEGIN:VEVENT
DTSTART;TZID=America/Los_Angeles:20210408T170000
DTEND;TZID=America/Los_Angeles:20210408T183000
DTSTAMP:20260425T171828
CREATED:20210330T163040Z
LAST-MODIFIED:20210330T163145Z
UID:10008150-1617901200-1617906600@live360video.com
SUMMARY:ecosphere - Live in VR
DESCRIPTION:Immerse yourself in ‘ecosphere’ a VR nature documentary series by PHORIA in partnership with Oculus\, World Wide Fund for Nature (WWF) and Silverback Films Ltd. \nDiscover the vast savannas of Kenya\, the ancient jungles in Borneo and dive down into the coral reefs of Raja Ampat\, all in Virtual reality\, with narration provided by actress Anna Friel. \nWatch in VR via Oculus Venues
URL:https://live360video.com/vr-stream/ecosphere-live-in-vr/
LOCATION:Online Event\, United States
CATEGORIES:Documentary,Entertainment
ATTACH;FMTTYPE=image/jpeg:https://live360video.com/wp-content/uploads/2021/03/ecosphere-Live-in-VR.jpeg
GEO:37.09024;-95.712891
END:VEVENT
BEGIN:VEVENT
DTSTART;TZID=America/Los_Angeles:20210415T170000
DTEND;TZID=America/Los_Angeles:20210415T183000
DTSTAMP:20260425T171828
CREATED:20210415T160609Z
LAST-MODIFIED:20210415T160609Z
UID:10008157-1618506000-1618511400@live360video.com
SUMMARY:Everest VR
DESCRIPTION:Journey through the most extreme VR locations ending on the summit of Everest itself. An immersive adventure with Himalayan avalanches\, crossing crevasses\, death defying rock climbing and camping under the stars on a mountain top. \nWatch in VR via Oculus Venues
URL:https://live360video.com/vr-stream/everest-vr/
LOCATION:Online Event\, United States
CATEGORIES:Documentary,Entertainment
ATTACH;FMTTYPE=image/jpeg:https://live360video.com/wp-content/uploads/2021/04/Everest-VR.jpeg
GEO:37.09024;-95.712891
END:VEVENT
BEGIN:VEVENT
DTSTART;TZID=America/Los_Angeles:20210425T180000
DTEND;TZID=America/Los_Angeles:20210425T193000
DTSTAMP:20260425T171828
CREATED:20220418T153359Z
LAST-MODIFIED:20220418T153359Z
UID:10008385-1619373600-1619379000@live360video.com
SUMMARY:Nature in Motion: Serenity - Live in VR
DESCRIPTION:Experience Mother Nature’s most enigmatic creatures and stunning landscapes through “Nature in Motion: Serenity”\, a 45-minute journey into the wild. \nWatch in VR via Horizon Venues \nProduced by Habitat XR.
URL:https://live360video.com/vr-stream/nature-in-motion-serenity-live-in-vr/
LOCATION:Online Event\, United States
CATEGORIES:Documentary,Entertainment
ATTACH;FMTTYPE=image/jpeg:https://live360video.com/wp-content/uploads/2022/04/Nature-in-Motion-Serenity-Live-in-VR.jpg
GEO:37.09024;-95.712891
END:VEVENT
BEGIN:VEVENT
DTSTART;TZID=America/Los_Angeles:20210429T170000
DTEND;TZID=America/Los_Angeles:20210429T180000
DTSTAMP:20260425T171828
CREATED:20210421T161928Z
LAST-MODIFIED:20210421T162041Z
UID:10008161-1619715600-1619719200@live360video.com
SUMMARY:Mountain Views in VR
DESCRIPTION:Watch the breathtaking mountain views and cinematography\, courtesy of Jonathan Griffith Productions\, in this sunrise to sunset experience on Mount Everest\, the highest place in the world. \nWatch in VR via Oculus Venues
URL:https://live360video.com/vr-stream/mountain-views-in-vr/
LOCATION:Online Event\, United States
CATEGORIES:Documentary,Entertainment
ATTACH;FMTTYPE=image/jpeg:https://live360video.com/wp-content/uploads/2021/04/Moutain-Views-in-VR.jpeg
GEO:37.09024;-95.712891
END:VEVENT
END:VCALENDAR