BEGIN:VCALENDAR
VERSION:2.0
PRODID:-//Live 360 Video - ECPv6.1.1//NONSGML v1.0//EN
CALSCALE:GREGORIAN
METHOD:PUBLISH
X-ORIGINAL-URL:https://live360video.com
X-WR-CALDESC:Events for Live 360 Video
REFRESH-INTERVAL;VALUE=DURATION:PT1H
X-Robots-Tag:noindex
X-PUBLISHED-TTL:PT1H
BEGIN:VTIMEZONE
TZID:America/Los_Angeles
BEGIN:DAYLIGHT
TZOFFSETFROM:-0800
TZOFFSETTO:-0700
TZNAME:PDT
DTSTART:20220313T100000
END:DAYLIGHT
BEGIN:STANDARD
TZOFFSETFROM:-0700
TZOFFSETTO:-0800
TZNAME:PST
DTSTART:20221106T090000
END:STANDARD
END:VTIMEZONE
BEGIN:VEVENT
DTSTART;TZID=America/Los_Angeles:20220103T170000
DTEND;TZID=America/Los_Angeles:20220103T183000
DTSTAMP:20260420T170945
CREATED:20220103T102516Z
LAST-MODIFIED:20220103T102516Z
UID:10008306-1641229200-1641234600@live360video.com
SUMMARY:Adventure Photography - Corey Rich - Live in VR
DESCRIPTION:Experience the all the thrills and spills of an adventure photographer through a collection of short stories by esteemed photographer and director Corey Rich. \nWatch live in vr via Horizon Venues
URL:https://live360video.com/vr-stream/adventure-photography-corey-rich-live-in-vr/
LOCATION:Online Event\, United States
CATEGORIES:Documentary
ATTACH;FMTTYPE=image/jpeg:https://live360video.com/wp-content/uploads/2022/01/Adventure-Photography-Corey-Rich-Live-in-VR.jpg
GEO:37.09024;-95.712891
END:VEVENT
BEGIN:VEVENT
DTSTART;TZID=America/Los_Angeles:20220108T150000
DTEND;TZID=America/Los_Angeles:20220108T160000
DTSTAMP:20260420T170945
CREATED:20220103T113227Z
LAST-MODIFIED:20220418T144738Z
UID:10008075-1641654000-1641657600@live360video.com
SUMMARY:Underwater Explorations - Casey Sapp - Live in VR
DESCRIPTION:Casey Sapp is one of the world’s leading underwater camera inventors and producers. Join Casey Sapp\, one of the world’s leading underwater camera inventors and producers for VR adventure beneath the sea on the Neptune Memorial Reef. \nWatch in vr via Horizon Venues 
URL:https://live360video.com/vr-stream/underwater-explorations-casey-sapp/2022-01-08/
LOCATION:Online Event\, United States
CATEGORIES:Documentary
ATTACH;FMTTYPE=image/jpeg:https://live360video.com/wp-content/uploads/2022/01/Underwater-Explorations-Casey-Sapp-Live-in-VR.jpg
GEO:37.09024;-95.712891
END:VEVENT
BEGIN:VEVENT
DTSTART;TZID=America/Los_Angeles:20220110T170000
DTEND;TZID=America/Los_Angeles:20220110T180000
DTSTAMP:20260420T170945
CREATED:20220103T120056Z
LAST-MODIFIED:20220103T120056Z
UID:10008080-1641834000-1641837600@live360video.com
SUMMARY:A Guide To Mindful Living - Hindz- Live in VR
DESCRIPTION:Vancouver’s HINDZ shares a visual storytelling podcast experience acting as a useful guide to nurture the creative inside\, in hindzsight. \nWatch in vr via Horizon Venues 
URL:https://live360video.com/vr-stream/a-guide-to-mindful-living-hindz-live-in-vr/
LOCATION:Online Event\, United States
CATEGORIES:Documentary
ATTACH;FMTTYPE=image/jpeg:https://live360video.com/wp-content/uploads/2022/01/A-Guide-To-Mindful-Living-Hindz-Live-in-VR.jpg
GEO:37.09024;-95.712891
END:VEVENT
BEGIN:VEVENT
DTSTART;TZID=America/Los_Angeles:20220117T170000
DTEND;TZID=America/Los_Angeles:20220117T190000
DTSTAMP:20260420T170945
CREATED:20220105T151212Z
LAST-MODIFIED:20220105T151212Z
UID:10008087-1642438800-1642446000@live360video.com
SUMMARY:Grain to Bread - Live in VR
DESCRIPTION:The award winning Rose Wilde behind the Red Bread brand is a dedicated chef\, baker and food preserver\, and equally passionate about food justice. \nWatch live in vr via Horizon Venues and Supersphere
URL:https://live360video.com/vr-stream/grain-to-bread-live-in-vr/
LOCATION:Online Event\, United States
CATEGORIES:Documentary
ATTACH;FMTTYPE=image/jpeg:https://live360video.com/wp-content/uploads/2022/01/Grain-to-Bread-Live-in-VR.jpg
GEO:37.09024;-95.712891
END:VEVENT
BEGIN:VEVENT
DTSTART;TZID=America/Los_Angeles:20220124T180000
DTEND;TZID=America/Los_Angeles:20220124T190000
DTSTAMP:20260420T170945
CREATED:20220120T161616Z
LAST-MODIFIED:20220120T161616Z
UID:10008314-1643047200-1643050800@live360video.com
SUMMARY:The War of Art - Steven Pressfield - Live in VR
DESCRIPTION:Internationally bestselling author Steven Pressfield shares his wisdom on how to inspire and guide creativity expression. \nWatch live in VR via Horizon Venues
URL:https://live360video.com/vr-stream/the-war-of-art-steven-pressfield-live-in-vr/
LOCATION:Online Event\, United States
CATEGORIES:Documentary,MMA
ATTACH;FMTTYPE=image/jpeg:https://live360video.com/wp-content/uploads/2022/01/The-War-of-Art-Steven-Pressfield-Live-in-VR.jpg
GEO:37.09024;-95.712891
END:VEVENT
BEGIN:VEVENT
DTSTART;TZID=America/Los_Angeles:20220127T190000
DTEND;TZID=America/Los_Angeles:20220127T200000
DTSTAMP:20260420T170945
CREATED:20220127T180313Z
LAST-MODIFIED:20220429T113701Z
UID:10008322-1643310000-1643313600@live360video.com
SUMMARY:India's Forgotten People in VR
DESCRIPTION:Experience the history of India’s proud but forgotten Gadia Lohar community in VR. \nWatch in VR via Horizon Venues
URL:https://live360video.com/vr-stream/indias-forgotten-people-live-in-vr/2022-01-27/
LOCATION:Online Event\, United States
CATEGORIES:Documentary
ATTACH;FMTTYPE=image/jpeg:https://live360video.com/wp-content/uploads/2022/01/Indias-Forgotten-People-Live-in-VR.jpeg
GEO:37.09024;-95.712891
END:VEVENT
BEGIN:VEVENT
DTSTART;TZID=America/Los_Angeles:20220131T180000
DTEND;TZID=America/Los_Angeles:20220131T190000
DTSTAMP:20260420T170945
CREATED:20220120T164731Z
LAST-MODIFIED:20220120T164731Z
UID:10008317-1643652000-1643655600@live360video.com
SUMMARY:A Lowrider Timeline: Painting Through the Decades - Live in VR
DESCRIPTION:Filmmaker Luis Flores Jr. explores Lowrider culture from the ‘40s and ‘50s to today to share the stories of the people behind the cars. \nWatch live in VR via Horizon Venues
URL:https://live360video.com/vr-stream/a-lowrider-timeline-painting-through-the-decades-live-in-vr/
LOCATION:Online Event\, United States
CATEGORIES:Documentary
ATTACH;FMTTYPE=image/jpeg:https://live360video.com/wp-content/uploads/2022/01/A-Lowrider-Timeline-Painting-Through-the-Decades-Live-in-VR.jpg
GEO:37.09024;-95.712891
END:VEVENT
END:VCALENDAR