BEGIN:VCALENDAR
VERSION:2.0
PRODID:-//Live 360 Video - ECPv6.1.1//NONSGML v1.0//EN
CALSCALE:GREGORIAN
METHOD:PUBLISH
X-WR-CALNAME:Live 360 Video
X-ORIGINAL-URL:https://live360video.com
X-WR-CALDESC:Events for Live 360 Video
REFRESH-INTERVAL;VALUE=DURATION:PT1H
X-Robots-Tag:noindex
X-PUBLISHED-TTL:PT1H
BEGIN:VTIMEZONE
TZID:America/Los_Angeles
BEGIN:DAYLIGHT
TZOFFSETFROM:-0800
TZOFFSETTO:-0700
TZNAME:PDT
DTSTART:20210314T100000
END:DAYLIGHT
BEGIN:STANDARD
TZOFFSETFROM:-0700
TZOFFSETTO:-0800
TZNAME:PST
DTSTART:20211107T090000
END:STANDARD
END:VTIMEZONE
BEGIN:VEVENT
DTSTART;TZID=America/Los_Angeles:20211224T190000
DTEND;TZID=America/Los_Angeles:20211224T203000
DTSTAMP:20260421T092101
CREATED:20211216T122250Z
LAST-MODIFIED:20211223T093801Z
UID:10008291-1640372400-1640377800@live360video.com
SUMMARY:Johnny Strange: Born to Fly - Live in VR
DESCRIPTION:Born to Fly follows the incredible life and tragic death of Johnny Strange\, the extreme risk taking 23 year old a wing-suit base-jumper and the youngest person ever to summit the highest peak on all 7 continents. A hard hitting examination of living life to the fullest\, through a pioneer. \nExperience the highs and lows of friends family and loved ones and the legacy left by the untimely departure of Johnny Strange. \nWatch in VR via Horizon Venues
URL:https://live360video.com/vr-stream/johnny-strange-born-to-fly-live-in-vr/
LOCATION:Online Event\, United States
CATEGORIES:Documentary,Entertainment
ATTACH;FMTTYPE=image/jpeg:https://live360video.com/wp-content/uploads/2021/12/Johnny-Strange-Born-to-Fly-Live-in-VR.jpeg
GEO:37.09024;-95.712891
END:VEVENT
END:VCALENDAR