BEGIN:VCALENDAR
VERSION:2.0
PRODID:-//Live 360 Video - ECPv6.1.1//NONSGML v1.0//EN
CALSCALE:GREGORIAN
METHOD:PUBLISH
X-ORIGINAL-URL:https://live360video.com
X-WR-CALDESC:Events for Live 360 Video
REFRESH-INTERVAL;VALUE=DURATION:PT1H
X-Robots-Tag:noindex
X-PUBLISHED-TTL:PT1H
BEGIN:VTIMEZONE
TZID:America/Los_Angeles
BEGIN:DAYLIGHT
TZOFFSETFROM:-0800
TZOFFSETTO:-0700
TZNAME:PDT
DTSTART:20200308T100000
END:DAYLIGHT
BEGIN:STANDARD
TZOFFSETFROM:-0700
TZOFFSETTO:-0800
TZNAME:PST
DTSTART:20201101T090000
END:STANDARD
END:VTIMEZONE
BEGIN:VEVENT
DTSTART;TZID=America/Los_Angeles:20200205T183000
DTEND;TZID=America/Los_Angeles:20200205T213000
DTSTAMP:20260419T195557
CREATED:20191125T091415Z
LAST-MODIFIED:20191125T093446Z
UID:10008093-1580927400-1580938200@live360video.com
SUMMARY:Miami Heat at LA Clippers - Live in VR
DESCRIPTION:Miami Heat take on LA Clippers\, live in vr\, at the Staples Center in Los Angeles. This game is available live in vr on all NextVR platforms with a NBA League Pass subscription.
URL:https://live360video.com/vr-stream/miami-heat-at-la-clippers-live-in-vr/
LOCATION:Staples Center\, 1111 S Figueroa St\, Los Angeles\, CA\, 90015\, United States
CATEGORIES:Basketball,Sports
ATTACH;FMTTYPE=image/jpeg:https://live360video.com/wp-content/uploads/2019/11/Miami-Heat-at-LA-Clippers-Live-in-VR.jpeg
GEO:34.0430058;-118.2673597
X-APPLE-STRUCTURED-LOCATION;VALUE=URI;X-ADDRESS=Staples Center 1111 S Figueroa St Los Angeles CA 90015 United States;X-APPLE-RADIUS=500;X-TITLE=1111 S Figueroa St:geo:-118.2673597,34.0430058
END:VEVENT
BEGIN:VEVENT
DTSTART;TZID=America/Los_Angeles:20200210T170000
DTEND;TZID=America/Los_Angeles:20200210T200000
DTSTAMP:20260419T195557
CREATED:20191125T092205Z
LAST-MODIFIED:20191125T093034Z
UID:10008094-1581354000-1581364800@live360video.com
SUMMARY:San Antonio Spurs at Denver Nuggets - Live in VR
DESCRIPTION:San Antonio Spurs take on the Denver Nuggets at The Pepsi Center in Denver\, Colorado. This game is available live in vr on all NextVR platforms with a NBA League Pass subscription. \n 
URL:https://live360video.com/vr-stream/san-antonio-spurs-at-denver-nuggets-live-in-vr/
LOCATION:Ball Arena\, 000 Chopper Cir\, Denver\, CO\, 80204\, United States
CATEGORIES:Basketball,Sports
ATTACH;FMTTYPE=image/jpeg:https://live360video.com/wp-content/uploads/2019/11/San-Antonio-Spurs-at-Denver-Nuggets-Live-in-VR.jpg
GEO:39.74866;-105.00771
X-APPLE-STRUCTURED-LOCATION;VALUE=URI;X-ADDRESS=Ball Arena 000 Chopper Cir Denver CO 80204 United States;X-APPLE-RADIUS=500;X-TITLE=000 Chopper Cir:geo:-105.00771,39.74866
END:VEVENT
BEGIN:VEVENT
DTSTART;TZID=America/Los_Angeles:20200223T150000
DTEND;TZID=America/Los_Angeles:20200223T180000
DTSTAMP:20260419T195557
CREATED:20191125T092932Z
LAST-MODIFIED:20191125T093052Z
UID:10008095-1582470000-1582480800@live360video.com
SUMMARY:San Antonio Spurs at Oklahoma City Thunder - Live in VR
DESCRIPTION:San Antonio Spurs take on Oklahoma City Thunder at the Chesapeake Energy Arena in Oklahoma. This game is available live in vr on all NextVR platforms with a NBA League Pass subscription.
URL:https://live360video.com/vr-stream/san-antonio-spurs-at-oklahoma-city-thunder-live-in-vr/
LOCATION:Chesapeake Energy Arena\, 132 W Reno Ave\, Oklahoma City\, OK\, 73102\, United States
CATEGORIES:Basketball,Sports
ATTACH;FMTTYPE=image/jpeg:https://live360video.com/wp-content/uploads/2019/11/San-Antonio-Spurs-at-Oklahoma-City-Thunder-Live-in-VR.jpg
GEO:35.4642521;-97.5153789
X-APPLE-STRUCTURED-LOCATION;VALUE=URI;X-ADDRESS=Chesapeake Energy Arena 132 W Reno Ave Oklahoma City OK 73102 United States;X-APPLE-RADIUS=500;X-TITLE=132 W Reno Ave:geo:-97.5153789,35.4642521
END:VEVENT
END:VCALENDAR