BEGIN:VCALENDAR
VERSION:2.0
PRODID:-//Live 360 Video - ECPv6.1.1//NONSGML v1.0//EN
CALSCALE:GREGORIAN
METHOD:PUBLISH
X-WR-CALNAME:Live 360 Video
X-ORIGINAL-URL:https://live360video.com
X-WR-CALDESC:Events for Live 360 Video
REFRESH-INTERVAL;VALUE=DURATION:PT1H
X-Robots-Tag:noindex
X-PUBLISHED-TTL:PT1H
BEGIN:VTIMEZONE
TZID:America/Los_Angeles
BEGIN:DAYLIGHT
TZOFFSETFROM:-0800
TZOFFSETTO:-0700
TZNAME:PDT
DTSTART:20200308T100000
END:DAYLIGHT
BEGIN:STANDARD
TZOFFSETFROM:-0700
TZOFFSETTO:-0800
TZNAME:PST
DTSTART:20201101T090000
END:STANDARD
END:VTIMEZONE
BEGIN:VEVENT
DTSTART;TZID=America/Los_Angeles:20200301T140000
DTEND;TZID=America/Los_Angeles:20200301T170000
DTSTAMP:20260419T045450
CREATED:20191223T100604Z
LAST-MODIFIED:20191223T105532Z
UID:10008104-1583071200-1583082000@live360video.com
SUMMARY:Toronto Raptors at Denver Nuggets - Live in VR
DESCRIPTION:Last season’s victors Toronto Raptors take on Denver Nuggets at the Pepsi Center in Denver\, Colorado. This game is available live in vr on all NextVR platforms with a NBA League Pass subscription.
URL:https://live360video.com/vr-stream/toronto-raptors-at-denver-nuggets-live-in-vr/
LOCATION:Ball Arena\, 000 Chopper Cir\, Denver\, CO\, 80204\, United States
CATEGORIES:Basketball,Sports
ATTACH;FMTTYPE=image/jpeg:https://live360video.com/wp-content/uploads/2019/12/Toronto-Raptors-at-Denver-Nuggets-Live-in-VR-1.jpg
GEO:39.74866;-105.00771
X-APPLE-STRUCTURED-LOCATION;VALUE=URI;X-ADDRESS=Ball Arena 000 Chopper Cir Denver CO 80204 United States;X-APPLE-RADIUS=500;X-TITLE=000 Chopper Cir:geo:-105.00771,39.74866
END:VEVENT
BEGIN:VEVENT
DTSTART;TZID=America/Los_Angeles:20200308T140000
DTEND;TZID=America/Los_Angeles:20200308T170000
DTSTAMP:20260419T045450
CREATED:20191223T101147Z
LAST-MODIFIED:20191223T105611Z
UID:10008105-1583676000-1583686800@live360video.com
SUMMARY:Milwaukee Bucks at Phoenix Suns - Live in VR
DESCRIPTION:Milwaukee Bucks take on Phoenix Suns at the Talking Stick Resort Arena in Phoenix\, Arizona. This game is available live in vr on all NextVR platforms with a NBA League Pass subscription.
URL:https://live360video.com/vr-stream/milwaukee-bucks-at-phoenix-suns-live-in-vr/
LOCATION:Talking Stick Resort Arena\, 201 E Jefferson St\, Phoenix\, AZ\, 85004\, United States
CATEGORIES:Basketball,Sports
ATTACH;FMTTYPE=image/jpeg:https://live360video.com/wp-content/uploads/2019/12/Milwaukee-Bucks-at-Phoenix-Suns-Live-in-VR.jpg
GEO:33.4459533;-112.0714496
X-APPLE-STRUCTURED-LOCATION;VALUE=URI;X-ADDRESS=Talking Stick Resort Arena 201 E Jefferson St Phoenix AZ 85004 United States;X-APPLE-RADIUS=500;X-TITLE=201 E Jefferson St:geo:-112.0714496,33.4459533
END:VEVENT
BEGIN:VEVENT
DTSTART;TZID=America/Los_Angeles:20200313T170000
DTEND;TZID=America/Los_Angeles:20200313T200000
DTSTAMP:20260419T045450
CREATED:20191223T102435Z
LAST-MODIFIED:20191223T105640Z
UID:10008106-1584118800-1584129600@live360video.com
SUMMARY:New Orleans Pelicans at Utah Jazz - Live in VR
DESCRIPTION:New Orleans Pelicans take on Utah Jazz at the Vivint Smart Arena in Salt Lake City. This game is available live in vr on all NextVR platforms with a NBA League Pass subscription.
URL:https://live360video.com/vr-stream/new-orleans-pelicans-at-utah-jazz-live-in-vr/
LOCATION:Vivint Smart Home Arena\, 301 S Temple\, Salt Lake City\, UT\, UT 84101\, United States
CATEGORIES:Basketball,Sports
ATTACH;FMTTYPE=image/jpeg:https://live360video.com/wp-content/uploads/2019/12/New-Orleans-Pelicans-at-Utah-Jazz-Live-in-VR.jpg
GEO:40.7682547;-111.9011016
X-APPLE-STRUCTURED-LOCATION;VALUE=URI;X-ADDRESS=Vivint Smart Home Arena 301 S Temple Salt Lake City UT UT 84101 United States;X-APPLE-RADIUS=500;X-TITLE=301 S Temple:geo:-111.9011016,40.7682547
END:VEVENT
BEGIN:VEVENT
DTSTART;TZID=America/Los_Angeles:20200321T140000
DTEND;TZID=America/Los_Angeles:20200321T170000
DTSTAMP:20260419T045450
CREATED:20191223T103356Z
LAST-MODIFIED:20191223T105657Z
UID:10008107-1584799200-1584810000@live360video.com
SUMMARY:Boston Celtics at Brooklyn Nets - Live in VR
DESCRIPTION:Boston Celtics take on Brooklyn Nets at the Barclays Center in Brooklyn\, New York City. This game is available live in vr on all NextVR platforms with a NBA League Pass subscription.
URL:https://live360video.com/vr-stream/boston-celtics-at-brooklyn-nets-live-in-vr/
LOCATION:Barclays Center\, 620 Atlantic Ave\, Brooklyn\, 11217\, United States
CATEGORIES:Basketball,Sports
ATTACH;FMTTYPE=image/jpeg:https://live360video.com/wp-content/uploads/2019/12/Boston-Celtics-at-Brooklyn-Nets-Live-in-VR.jpg
GEO:40.6826571;-73.9752822
X-APPLE-STRUCTURED-LOCATION;VALUE=URI;X-ADDRESS=Barclays Center 620 Atlantic Ave Brooklyn 11217 United States;X-APPLE-RADIUS=500;X-TITLE=620 Atlantic Ave:geo:-73.9752822,40.6826571
END:VEVENT
BEGIN:VEVENT
DTSTART;TZID=America/Los_Angeles:20200323T160000
DTEND;TZID=America/Los_Angeles:20200323T190000
DTSTAMP:20260419T045450
CREATED:20200110T120728Z
LAST-MODIFIED:20200110T120728Z
UID:10008109-1584979200-1584990000@live360video.com
SUMMARY:LA Clippers at New York Knicks - Live in VR
DESCRIPTION:LA Clippers take on New York Knicks at Madison Square Garden in New York City. This game is available live in vr on all NextVR platforms with a NBA League Pass subscription.
URL:https://live360video.com/vr-stream/la-clippers-at-new-york-knicks-live-in-vr-2/
LOCATION:Madison Square Garden\, 4 Pennsylvania Plaza\, New York\, NY\, NY 10001\, United States
CATEGORIES:Basketball,Sports
ATTACH;FMTTYPE=image/jpeg:https://live360video.com/wp-content/uploads/2020/01/LA-Clippers-at-New-York-Knicks-Live-in-VR.jpg
GEO:40.7507387;-73.9937978
X-APPLE-STRUCTURED-LOCATION;VALUE=URI;X-ADDRESS=Madison Square Garden 4 Pennsylvania Plaza New York NY NY 10001 United States;X-APPLE-RADIUS=500;X-TITLE=4 Pennsylvania Plaza:geo:-73.9937978,40.7507387
END:VEVENT
END:VCALENDAR