BEGIN:VCALENDAR
VERSION:2.0
PRODID:-//Live 360 Video - ECPv6.1.1//NONSGML v1.0//EN
CALSCALE:GREGORIAN
METHOD:PUBLISH
X-WR-CALNAME:Live 360 Video
X-ORIGINAL-URL:https://live360video.com
X-WR-CALDESC:Events for Live 360 Video
REFRESH-INTERVAL;VALUE=DURATION:PT1H
X-Robots-Tag:noindex
X-PUBLISHED-TTL:PT1H
BEGIN:VTIMEZONE
TZID:America/Los_Angeles
BEGIN:DAYLIGHT
TZOFFSETFROM:-0800
TZOFFSETTO:-0700
TZNAME:PDT
DTSTART:20200308T100000
END:DAYLIGHT
BEGIN:STANDARD
TZOFFSETFROM:-0700
TZOFFSETTO:-0800
TZNAME:PST
DTSTART:20201101T090000
END:STANDARD
END:VTIMEZONE
BEGIN:VEVENT
DTSTART;TZID=America/Los_Angeles:20200413T193000
DTEND;TZID=America/Los_Angeles:20200413T223000
DTSTAMP:20260419T135718
CREATED:20200110T122955Z
LAST-MODIFIED:20200110T123205Z
UID:10008112-1586806200-1586817000@live360video.com
SUMMARY:Timberwolves at Clippers - Live in VR
DESCRIPTION:Minnesota Timberwolves take on LA Clippers at Staples Center in Los Angeles\, California. This game is available live in vr on all NextVR platforms with a NBA League Pass subscription.
URL:https://live360video.com/vr-stream/timberwolves-at-clippers-live-in-vr/
LOCATION:Staples Center\, 1111 S Figueroa St\, Los Angeles\, CA\, 90015\, United States
CATEGORIES:Basketball,Sports
ATTACH;FMTTYPE=image/jpeg:https://live360video.com/wp-content/uploads/2020/01/Minnesota-Timberwolves-at-LA-Clippers-Live-in-VR.jpg
GEO:34.0430058;-118.2673597
X-APPLE-STRUCTURED-LOCATION;VALUE=URI;X-ADDRESS=Staples Center 1111 S Figueroa St Los Angeles CA 90015 United States;X-APPLE-RADIUS=500;X-TITLE=1111 S Figueroa St:geo:-118.2673597,34.0430058
END:VEVENT
END:VCALENDAR