BEGIN:VCALENDAR
VERSION:2.0
PRODID:-//Live 360 Video - ECPv6.1.1//NONSGML v1.0//EN
CALSCALE:GREGORIAN
METHOD:PUBLISH
X-ORIGINAL-URL:https://live360video.com
X-WR-CALDESC:Events for Live 360 Video
REFRESH-INTERVAL;VALUE=DURATION:PT1H
X-Robots-Tag:noindex
X-PUBLISHED-TTL:PT1H
BEGIN:VTIMEZONE
TZID:America/Los_Angeles
BEGIN:DAYLIGHT
TZOFFSETFROM:-0800
TZOFFSETTO:-0700
TZNAME:PDT
DTSTART:20190310T100000
END:DAYLIGHT
BEGIN:STANDARD
TZOFFSETFROM:-0700
TZOFFSETTO:-0800
TZNAME:PST
DTSTART:20191103T090000
END:STANDARD
END:VTIMEZONE
BEGIN:VEVENT
DTSTART;TZID=America/Los_Angeles:20190801T180000
DTEND;TZID=America/Los_Angeles:20190801T210000
DTSTAMP:20260423T094830
CREATED:20190701T083231Z
LAST-MODIFIED:20190903T210620Z
UID:10007779-1564682400-1564693200@live360video.com
SUMMARY:Gotham Comedy Club - Live in VR
DESCRIPTION:Experience the renowned Gotham Comedy Club live in VR from NextVR. Enjoy standup acts from New York City’s Gotham Comedy Club. Available live in VR using Oculus Go and Gear VR.
URL:https://live360video.com/vr-stream/gotham-comedy-club-live-in-vr-3/2019-08-01/
LOCATION:Gotham Comedy Club\, 208 W 23rd St\, New York\, NY\, NY 10011\, United States
CATEGORIES:Comedy,Entertainment
ATTACH;FMTTYPE=image/jpeg:https://live360video.com/wp-content/uploads/2018/06/Gotham-Comedy-Club-Live-in-VR-1.jpg
GEO:40.7440535;-73.9964321
X-APPLE-STRUCTURED-LOCATION;VALUE=URI;X-ADDRESS=Gotham Comedy Club 208 W 23rd St New York NY NY 10011 United States;X-APPLE-RADIUS=500;X-TITLE=208 W 23rd St:geo:-73.9964321,40.7440535
END:VEVENT
BEGIN:VEVENT
DTSTART;TZID=America/Los_Angeles:20190808T180000
DTEND;TZID=America/Los_Angeles:20190808T210000
DTSTAMP:20260423T094830
CREATED:20190701T083231Z
LAST-MODIFIED:20190903T210620Z
UID:10007780-1565287200-1565298000@live360video.com
SUMMARY:Gotham Comedy Club - Live in VR
DESCRIPTION:Experience the renowned Gotham Comedy Club live in VR from NextVR. Enjoy standup acts from New York City’s Gotham Comedy Club. Available live in VR using Oculus Go and Gear VR.
URL:https://live360video.com/vr-stream/gotham-comedy-club-live-in-vr-3/2019-08-08/
LOCATION:Gotham Comedy Club\, 208 W 23rd St\, New York\, NY\, NY 10011\, United States
CATEGORIES:Comedy,Entertainment
ATTACH;FMTTYPE=image/jpeg:https://live360video.com/wp-content/uploads/2018/06/Gotham-Comedy-Club-Live-in-VR-1.jpg
GEO:40.7440535;-73.9964321
X-APPLE-STRUCTURED-LOCATION;VALUE=URI;X-ADDRESS=Gotham Comedy Club 208 W 23rd St New York NY NY 10011 United States;X-APPLE-RADIUS=500;X-TITLE=208 W 23rd St:geo:-73.9964321,40.7440535
END:VEVENT
BEGIN:VEVENT
DTSTART;TZID=America/Los_Angeles:20190811T130000
DTEND;TZID=America/Los_Angeles:20190811T160000
DTSTAMP:20260423T094830
CREATED:20190801T110935Z
LAST-MODIFIED:20190903T083729Z
UID:10008030-1565528400-1565539200@live360video.com
SUMMARY:WWE SummerSlam Kickoff Show - Live in VR
DESCRIPTION:One of this summer’s major sporting events arrives in Toronto – WWE SummerSlam! Jump inside the ring and watch Raw and SmackDown wrestlers go to war on the big stage! Available exclusively using Oculus Go and Gear VR.
URL:https://live360video.com/vr-stream/wwe-summerslam-kickoff-show-live-in-vr/
LOCATION:Scotiabank Arena\, 40 Bay Street\, Toronto\, Ontario\, M5J 2X2\, Canada
CATEGORIES:Sports,Wrestling
ATTACH;FMTTYPE=image/jpeg:https://live360video.com/wp-content/uploads/2019/08/Summer-Slam-Kick-Off-Live-in-VR.jpeg
GEO:43.6435205;-79.3790818
X-APPLE-STRUCTURED-LOCATION;VALUE=URI;X-ADDRESS=Scotiabank Arena 40 Bay Street Toronto Ontario M5J 2X2 Canada;X-APPLE-RADIUS=500;X-TITLE=40 Bay Street:geo:-79.3790818,43.6435205
END:VEVENT
BEGIN:VEVENT
DTSTART;TZID=America/Los_Angeles:20190814T173000
DTEND;TZID=America/Los_Angeles:20190814T203000
DTSTAMP:20260423T094830
CREATED:20190806T085528Z
LAST-MODIFIED:20190903T074244Z
UID:10008031-1565803800-1565814600@live360video.com
SUMMARY:jackLNDN - Live in VR
DESCRIPTION:Unwind your mind with the Balearic sound of jackLNDN as he performs live in VR at the reputed Halcyon Club in San Francisco. Available exclusively using Oculus Go and Gear VR. \n 
URL:https://live360video.com/vr-stream/jacklndn-live-in-vr/2019-08-14/
LOCATION:Halcyon Club SF\, 314 11th St\, San Francisco\, CA\, CA 94103\, United States
CATEGORIES:Concerts & Festivals
ATTACH;FMTTYPE=image/png:https://live360video.com/wp-content/uploads/2019/08/jackLNDN-Live-in-VR.png
GEO:37.771465;-122.4139198
X-APPLE-STRUCTURED-LOCATION;VALUE=URI;X-ADDRESS=Halcyon Club SF 314 11th St San Francisco CA CA 94103 United States;X-APPLE-RADIUS=500;X-TITLE=314 11th St:geo:-122.4139198,37.771465
END:VEVENT
BEGIN:VEVENT
DTSTART;TZID=America/Los_Angeles:20190815T180000
DTEND;TZID=America/Los_Angeles:20190815T210000
DTSTAMP:20260423T094830
CREATED:20190701T083231Z
LAST-MODIFIED:20190903T210620Z
UID:10007781-1565892000-1565902800@live360video.com
SUMMARY:Gotham Comedy Club - Live in VR
DESCRIPTION:Experience the renowned Gotham Comedy Club live in VR from NextVR. Enjoy standup acts from New York City’s Gotham Comedy Club. Available live in VR using Oculus Go and Gear VR.
URL:https://live360video.com/vr-stream/gotham-comedy-club-live-in-vr-3/2019-08-15/
LOCATION:Gotham Comedy Club\, 208 W 23rd St\, New York\, NY\, NY 10011\, United States
CATEGORIES:Comedy,Entertainment
ATTACH;FMTTYPE=image/jpeg:https://live360video.com/wp-content/uploads/2018/06/Gotham-Comedy-Club-Live-in-VR-1.jpg
GEO:40.7440535;-73.9964321
X-APPLE-STRUCTURED-LOCATION;VALUE=URI;X-ADDRESS=Gotham Comedy Club 208 W 23rd St New York NY NY 10011 United States;X-APPLE-RADIUS=500;X-TITLE=208 W 23rd St:geo:-73.9964321,40.7440535
END:VEVENT
BEGIN:VEVENT
DTSTART;TZID=America/Los_Angeles:20190822T180000
DTEND;TZID=America/Los_Angeles:20190822T210000
DTSTAMP:20260423T094830
CREATED:20190701T083231Z
LAST-MODIFIED:20190903T210620Z
UID:10007782-1566496800-1566507600@live360video.com
SUMMARY:Gotham Comedy Club - Live in VR
DESCRIPTION:Experience the renowned Gotham Comedy Club live in VR from NextVR. Enjoy standup acts from New York City’s Gotham Comedy Club. Available live in VR using Oculus Go and Gear VR.
URL:https://live360video.com/vr-stream/gotham-comedy-club-live-in-vr-3/2019-08-22/
LOCATION:Gotham Comedy Club\, 208 W 23rd St\, New York\, NY\, NY 10011\, United States
CATEGORIES:Comedy,Entertainment
ATTACH;FMTTYPE=image/jpeg:https://live360video.com/wp-content/uploads/2018/06/Gotham-Comedy-Club-Live-in-VR-1.jpg
GEO:40.7440535;-73.9964321
X-APPLE-STRUCTURED-LOCATION;VALUE=URI;X-ADDRESS=Gotham Comedy Club 208 W 23rd St New York NY NY 10011 United States;X-APPLE-RADIUS=500;X-TITLE=208 W 23rd St:geo:-73.9964321,40.7440535
END:VEVENT
BEGIN:VEVENT
DTSTART;TZID=America/Los_Angeles:20190829T180000
DTEND;TZID=America/Los_Angeles:20190829T210000
DTSTAMP:20260423T094830
CREATED:20190701T083231Z
LAST-MODIFIED:20190903T210620Z
UID:10007783-1567101600-1567112400@live360video.com
SUMMARY:Gotham Comedy Club - Live in VR
DESCRIPTION:Experience the renowned Gotham Comedy Club live in VR from NextVR. Enjoy standup acts from New York City’s Gotham Comedy Club. Available live in VR using Oculus Go and Gear VR.
URL:https://live360video.com/vr-stream/gotham-comedy-club-live-in-vr-3/2019-08-29/
LOCATION:Gotham Comedy Club\, 208 W 23rd St\, New York\, NY\, NY 10011\, United States
CATEGORIES:Comedy,Entertainment
ATTACH;FMTTYPE=image/jpeg:https://live360video.com/wp-content/uploads/2018/06/Gotham-Comedy-Club-Live-in-VR-1.jpg
GEO:40.7440535;-73.9964321
X-APPLE-STRUCTURED-LOCATION;VALUE=URI;X-ADDRESS=Gotham Comedy Club 208 W 23rd St New York NY NY 10011 United States;X-APPLE-RADIUS=500;X-TITLE=208 W 23rd St:geo:-73.9964321,40.7440535
END:VEVENT
END:VCALENDAR