BEGIN:VCALENDAR
VERSION:2.0
PRODID:-//Live 360 Video - ECPv6.1.1//NONSGML v1.0//EN
CALSCALE:GREGORIAN
METHOD:PUBLISH
X-WR-CALNAME:Live 360 Video
X-ORIGINAL-URL:https://live360video.com
X-WR-CALDESC:Events for Live 360 Video
REFRESH-INTERVAL;VALUE=DURATION:PT1H
X-Robots-Tag:noindex
X-PUBLISHED-TTL:PT1H
BEGIN:VTIMEZONE
TZID:America/Los_Angeles
BEGIN:DAYLIGHT
TZOFFSETFROM:-0800
TZOFFSETTO:-0700
TZNAME:PDT
DTSTART:20190310T100000
END:DAYLIGHT
BEGIN:STANDARD
TZOFFSETFROM:-0700
TZOFFSETTO:-0800
TZNAME:PST
DTSTART:20191103T090000
END:STANDARD
END:VTIMEZONE
BEGIN:VEVENT
DTSTART;TZID=America/Los_Angeles:20191007T160000
DTEND;TZID=America/Los_Angeles:20191007T180000
DTSTAMP:20260423T043025
CREATED:20191007T133209Z
LAST-MODIFIED:20191007T133231Z
UID:10008071-1570464000-1570471200@live360video.com
SUMMARY:Post Malone Concert - Live in VR
DESCRIPTION:American rapper Post Malone comes to Oculus Venues as part of his Runaway Tour this fall at the PNC Arena in Raleigh\, NC. This concert will be broadcast live in VR for users with Oculus Quest\, Go\, or Samsung Gear VR.
URL:https://live360video.com/vr-stream/post-malone-concert-live-in-vr/
CATEGORIES:Concerts & Festivals
ATTACH;FMTTYPE=image/jpeg:https://live360video.com/wp-content/uploads/2019/10/Post-Malone-Concert-Live-in-VR.jpeg
END:VEVENT
BEGIN:VEVENT
DTSTART;TZID=America/Los_Angeles:20191023T153000
DTEND;TZID=America/Los_Angeles:20191023T183000
DTSTAMP:20260423T043025
CREATED:20191021T144552Z
LAST-MODIFIED:20191021T144704Z
UID:10007864-1571844600-1571855400@live360video.com
SUMMARY:Minnesota Timberwolves at Brooklyn Nets
DESCRIPTION:Minnesota Timberwolves take on the Brooklyn Nets at the Barclays Center in Brooklyn\, New York. This game is available live in vr on all NextVR platforms and is a free to view in the NextVR Screening Room if you have purchased the NBA League Pass (US).
URL:https://live360video.com/vr-stream/minnesota-timberwolves-at-brooklyn-nets/
LOCATION:Barclays Center\, 620 Atlantic Ave\, Brooklyn\, 11217\, United States
CATEGORIES:Basketball,Sports
ATTACH;FMTTYPE=image/jpeg:https://live360video.com/wp-content/uploads/2019/10/Minnesota-Timberwolves-at-Brooklyn-Nets-Live-in-VR.jpeg
GEO:40.6826571;-73.9752822
X-APPLE-STRUCTURED-LOCATION;VALUE=URI;X-ADDRESS=Barclays Center 620 Atlantic Ave Brooklyn 11217 United States;X-APPLE-RADIUS=500;X-TITLE=620 Atlantic Ave:geo:-73.9752822,40.6826571
END:VEVENT
BEGIN:VEVENT
DTSTART;TZID=America/Los_Angeles:20191024T150000
DTEND;TZID=America/Los_Angeles:20191024T180000
DTSTAMP:20260423T043025
CREATED:20191021T145730Z
LAST-MODIFIED:20191021T145730Z
UID:10007865-1571929200-1571940000@live360video.com
SUMMARY:Atlanta Hawks at Detroit Pistons - Live in VR
DESCRIPTION:Atlanta Hawks take on Detroit Pistons at the Little Caesars Arena in Detroit\, Michigan. This game is available live in vr on all NextVR platforms and is a free to view in the NextVR Screening Room if you have purchased the NBA League Pass (US). \n  \n 
URL:https://live360video.com/vr-stream/atlanta-hawks-at-detroit-pistons-live-in-vr/
LOCATION:Little Caesars Arena\, 2645 Woodward Avenue\, Detroit\, MI\, 48201\, United States
CATEGORIES:Basketball,Sports
ATTACH;FMTTYPE=image/jpeg:https://live360video.com/wp-content/uploads/2019/10/Atlanta-Hawks-at-Detroit-Pistons-Live-in-VR.jpg
GEO:42.341949;-83.054694
X-APPLE-STRUCTURED-LOCATION;VALUE=URI;X-ADDRESS=Little Caesars Arena 2645 Woodward Avenue Detroit MI 48201 United States;X-APPLE-RADIUS=500;X-TITLE=2645 Woodward Avenue:geo:-83.054694,42.341949
END:VEVENT
BEGIN:VEVENT
DTSTART;TZID=America/Los_Angeles:20191025T150000
DTEND;TZID=America/Los_Angeles:20191025T180000
DTSTAMP:20260423T043025
CREATED:20191021T150635Z
LAST-MODIFIED:20191021T150758Z
UID:10007868-1572015600-1572026400@live360video.com
SUMMARY:Toronto Raptors at Boston Celtics - Live in VR
DESCRIPTION:Toronto Raptors take on Boston Celtics at the TD Garden in Boston\, Massachusetts. This game is available live in vr on all NextVR platforms and is a free to view in the NextVR Screening Room if you have purchased the NBA League Pass (US).
URL:https://live360video.com/vr-stream/toronto-raptors-at-boston-celtics-live-in-vr/
LOCATION:TD Garden\, 100 Legends Way\, Boston\, MA\, 02114\, United States
CATEGORIES:Basketball,Sports
ATTACH;FMTTYPE=image/jpeg:https://live360video.com/wp-content/uploads/2019/10/Toronto-Raptors-at-Boston-Celtics-Live-in-VR.jpg
GEO:42.3664872;-71.0621057
X-APPLE-STRUCTURED-LOCATION;VALUE=URI;X-ADDRESS=TD Garden 100 Legends Way Boston MA 02114 United States;X-APPLE-RADIUS=500;X-TITLE=100 Legends Way:geo:-71.0621057,42.3664872
END:VEVENT
BEGIN:VEVENT
DTSTART;TZID=America/Los_Angeles:20191026T150000
DTEND;TZID=America/Los_Angeles:20191026T180000
DTSTAMP:20260423T043025
CREATED:20191021T151407Z
LAST-MODIFIED:20191021T151407Z
UID:10007871-1572102000-1572112800@live360video.com
SUMMARY:Philadelphia 76ers at Detroit Pistons - Live in VR
DESCRIPTION:Philadelphia 76ers take on Detroit Pistons at the Little Caesars Arena in Detroit\, Michigan. This game is available live in vr on all NextVR platforms and is a free to view in the NextVR Screening Room if you have purchased the NBA League Pass (US).
URL:https://live360video.com/vr-stream/philadelphia-76ers-at-detroit-pistons-live-in-vr/
LOCATION:Little Caesars Arena\, 2645 Woodward Avenue\, Detroit\, MI\, 48201\, United States
CATEGORIES:Baseball,Sports
ATTACH;FMTTYPE=image/jpeg:https://live360video.com/wp-content/uploads/2019/10/Philadelphia-76ers-at-Detroit-Pistons-Live-in-VR.jpg
GEO:42.341949;-83.054694
X-APPLE-STRUCTURED-LOCATION;VALUE=URI;X-ADDRESS=Little Caesars Arena 2645 Woodward Avenue Detroit MI 48201 United States;X-APPLE-RADIUS=500;X-TITLE=2645 Woodward Avenue:geo:-83.054694,42.341949
END:VEVENT
BEGIN:VEVENT
DTSTART;TZID=America/Los_Angeles:20191026T160000
DTEND;TZID=America/Los_Angeles:20191026T190000
DTSTAMP:20260423T043025
CREATED:20190930T100915Z
LAST-MODIFIED:20191007T133618Z
UID:10008065-1572105600-1572116400@live360video.com
SUMMARY:Pelicans at Rockets - Live in VR
DESCRIPTION:The NBA season kicks off once again with the New Orleans Pelicans taking on the Houston Rockets at the Toyota Center in Houston. This game is available live in vr on all NextVR platforms and is a free game if you have purchased the NBA VR League Pass (US).
URL:https://live360video.com/vr-stream/pelicans-at-rockets-live-in-vr/
LOCATION:Toyota Center\, 1510 Polk St\, Houston\, TX\, 77002\, United States
CATEGORIES:Basketball,Sports
ATTACH;FMTTYPE=image/jpeg:https://live360video.com/wp-content/uploads/2019/09/New-Orleans-Pelicans-at-Houston-Rockets-Live-in-VR.jpeg
GEO:29.750742;-95.3622312
X-APPLE-STRUCTURED-LOCATION;VALUE=URI;X-ADDRESS=Toyota Center 1510 Polk St Houston TX 77002 United States;X-APPLE-RADIUS=500;X-TITLE=1510 Polk St:geo:-95.3622312,29.750742
END:VEVENT
BEGIN:VEVENT
DTSTART;TZID=America/Los_Angeles:20191027T150000
DTEND;TZID=America/Los_Angeles:20191027T180000
DTSTAMP:20260423T043025
CREATED:20190930T102306Z
LAST-MODIFIED:20191007T134004Z
UID:10008066-1572188400-1572199200@live360video.com
SUMMARY:Trail Blazers at Mavericks - Live in VR
DESCRIPTION:Portland Trail Blazers take on the Dallas Mavericks at the American Airlines Center in Dallas\, Texas. This game is live in vr available on all NextVR platforms and is a free game if you have purchased the League Pass (US).
URL:https://live360video.com/vr-stream/trail-blazers-at-mavericks-live-in-vr/
LOCATION:American Airlines Center\, 2500 Victory Ave\, Dallas\, TX\, 75219\, United States
CATEGORIES:Basketball,Sports
ATTACH;FMTTYPE=image/jpeg:https://live360video.com/wp-content/uploads/2019/09/Portland-Trail-Blazers-at-Dallas-Mavericks-Live-in-VR.jpeg
GEO:32.7904922;-96.810285
X-APPLE-STRUCTURED-LOCATION;VALUE=URI;X-ADDRESS=American Airlines Center 2500 Victory Ave Dallas TX 75219 United States;X-APPLE-RADIUS=500;X-TITLE=2500 Victory Ave:geo:-96.810285,32.7904922
END:VEVENT
BEGIN:VEVENT
DTSTART;TZID=America/Los_Angeles:20191027T173000
DTEND;TZID=America/Los_Angeles:20191027T203000
DTSTAMP:20260423T043025
CREATED:20191021T152212Z
LAST-MODIFIED:20191021T152858Z
UID:10007874-1572197400-1572208200@live360video.com
SUMMARY:Charlotte Hornets at Los Angeles Lakers - Live in VR
DESCRIPTION:Charlotte Hornets take on Los Angeles Lakers at the Staples Center in LA. This game is available live in vr on all NextVR platforms and is a free to view in the NextVR Screening Room if you have purchased the NBA League Pass (US).
URL:https://live360video.com/vr-stream/charlotte-hornets-at-los-angeles-lakers-live-in-vr/
LOCATION:Staples Center\, 1111 S Figueroa St\, Los Angeles\, CA\, 90015\, United States
CATEGORIES:Basketball,Sports
ATTACH;FMTTYPE=image/jpeg:https://live360video.com/wp-content/uploads/2019/10/Charlotte-Hornets-at-Los-Angeles-Lakers-Live-in-VR.jpg
GEO:34.0430058;-118.2673597
X-APPLE-STRUCTURED-LOCATION;VALUE=URI;X-ADDRESS=Staples Center 1111 S Figueroa St Los Angeles CA 90015 United States;X-APPLE-RADIUS=500;X-TITLE=1111 S Figueroa St:geo:-118.2673597,34.0430058
END:VEVENT
END:VCALENDAR