BEGIN:VCALENDAR
VERSION:2.0
PRODID:-//Live 360 Video - ECPv6.1.1//NONSGML v1.0//EN
CALSCALE:GREGORIAN
METHOD:PUBLISH
X-WR-CALNAME:Live 360 Video
X-ORIGINAL-URL:https://live360video.com
X-WR-CALDESC:Events for Live 360 Video
REFRESH-INTERVAL;VALUE=DURATION:PT1H
X-Robots-Tag:noindex
X-PUBLISHED-TTL:PT1H
BEGIN:VTIMEZONE
TZID:America/Los_Angeles
BEGIN:DAYLIGHT
TZOFFSETFROM:-0800
TZOFFSETTO:-0700
TZNAME:PDT
DTSTART:20210314T100000
END:DAYLIGHT
BEGIN:STANDARD
TZOFFSETFROM:-0700
TZOFFSETTO:-0800
TZNAME:PST
DTSTART:20211107T090000
END:STANDARD
END:VTIMEZONE
BEGIN:VEVENT
DTSTART;TZID=America/Los_Angeles:20211205T075000
DTEND;TZID=America/Los_Angeles:20211205T090000
DTSTAMP:20260423T060836
CREATED:20211130T174939Z
LAST-MODIFIED:20211130T174939Z
UID:10008040-1638690600-1638694800@live360video.com
SUMMARY:Sun Valley Community Church: Mighty God - Live in VR
DESCRIPTION:The Sun Valley ‘A Great Light’ series continues live in VR with a look at the Mighty God and themes of love vs evil from the Sun Valley Community Church\, a multi site church\, broadcasting from their campus in Gilbert\, Arizona. \n\n\n\n\n\n\n\n\n\n\n\n\n\n\nWatch via Horizon Venues \nThis content is presented via Facebook Live stream in 2D format
URL:https://live360video.com/vr-stream/sun-valley-community-church-mighty-god-live-in-vr/
LOCATION:Online Event\, United States
CATEGORIES:Concerts & Festivals
ATTACH;FMTTYPE=image/jpeg:https://live360video.com/wp-content/uploads/2021/11/Sun-Valley-Community-Church-Wonderful-Counselor-Live-in-VR.jpeg
GEO:37.09024;-95.712891
END:VEVENT
BEGIN:VEVENT
DTSTART;TZID=America/Los_Angeles:20211208T150000
DTEND;TZID=America/Los_Angeles:20211208T170000
DTSTAMP:20260423T060836
CREATED:20211206T175010Z
LAST-MODIFIED:20211206T175010Z
UID:10008280-1638975600-1638982800@live360video.com
SUMMARY:Facebook Gaming presents #PLAYLOUD - Live in VR
DESCRIPTION:#PLAYLOUD gaming creators meet in LA for a holiday special\, live in vr\, where they run through the year’s highlights as well as taking part in a special joint gaming challenge\, with special guests and a video debut featuring DJ Khaled and Timbaland.\n\n\n\n\n\n\n\n\n\n\n\n\n\n\nWatch via Horizon Venues \nThis content is presented via Facebook Live stream in 2D format
URL:https://live360video.com/vr-stream/facebook-gaming-presents-playloud-live-in-vr/
LOCATION:Online Event\, United States
CATEGORIES:Entertainment
ATTACH;FMTTYPE=image/jpeg:https://live360video.com/wp-content/uploads/2021/12/Facebook-Gaming-presents-PLAYLOUD-Live-in-VR.jpeg
GEO:37.09024;-95.712891
END:VEVENT
BEGIN:VEVENT
DTSTART;TZID=America/Los_Angeles:20211209T170000
DTEND;TZID=America/Los_Angeles:20211209T200000
DTSTAMP:20260423T060836
CREATED:20211206T175614Z
LAST-MODIFIED:20211206T175614Z
UID:10008281-1639069200-1639080000@live360video.com
SUMMARY:The Game Awards - Live in VR
DESCRIPTION:Celebrate the best video games of 2021 live in VR\, bringing together a diverse group of game developers\, players and fans to recognize creative and technical excellence from Microsoft Theater in Los Angeles. \n\n\n\n\n\n\n\n\n\n\n\n\n\n\nWatch via Horizon Venues \nThis content is presented via Facebook Live stream in 2D format
URL:https://live360video.com/vr-stream/the-game-awards-live-in-vr/
LOCATION:Online Event\, United States
CATEGORIES:Entertainment
ATTACH;FMTTYPE=image/jpeg:https://live360video.com/wp-content/uploads/2021/12/The-Game-Awards-Live-in-VR.jpg
GEO:37.09024;-95.712891
END:VEVENT
BEGIN:VEVENT
DTSTART;TZID=America/Los_Angeles:20211212T080000
DTEND;TZID=America/Los_Angeles:20211212T090000
DTSTAMP:20260423T060836
CREATED:20211130T181645Z
LAST-MODIFIED:20211130T181645Z
UID:10008048-1639296000-1639299600@live360video.com
SUMMARY:Sun Valley Community Church: Everlasting Father - Live in VR
DESCRIPTION:The Sun Valley ‘A Great Light’ series continues live in VR with a look at the Everlasting Father moniker – Live in VR from the Sun Valley Community Church\, a multi site church\, broadcasting from their campus in Gilbert\, Arizona. \n\n  \n\n\n\n\n\n\n\n\n\n\n\n\n\nWatch via Horizon Venues \nThis content is presented via Facebook Live stream in 2D format
URL:https://live360video.com/vr-stream/sun-valley-community-church-everlasting-father-live-in-vr/
LOCATION:Online Event\, United States
CATEGORIES:Concerts & Festivals
ATTACH;FMTTYPE=image/jpeg:https://live360video.com/wp-content/uploads/2021/11/Sun-Valley-Community-Church-Wonderful-Counselor-Live-in-VR.jpeg
GEO:37.09024;-95.712891
END:VEVENT
BEGIN:VEVENT
DTSTART;TZID=America/Los_Angeles:20211216T140000
DTEND;TZID=America/Los_Angeles:20211216T160000
DTSTAMP:20260423T060836
CREATED:20211215T224127Z
LAST-MODIFIED:20211215T224127Z
UID:10008286-1639663200-1639670400@live360video.com
SUMMARY:POPULATION: ONE Winter Wonderland - Live in VR
DESCRIPTION:The POPULATION: ONE Winter Wonderland Event is here! Join Nightfiree\, Darkness429\, Adiofreak\, and MugsTV as they investigate the all new Winter Wonderland update\, live in vr. \nThis content is presented via Facebook Live stream in rectilinear format. \n\n\n\n\n\n\n\n\n\n\n\n\n\n\nWatch via Horizon Venues
URL:https://live360video.com/vr-stream/population-one-winter-wonderland-live-in-vr/
LOCATION:Online Event\, United States
CATEGORIES:Documentary
ATTACH;FMTTYPE=image/jpeg:https://live360video.com/wp-content/uploads/2021/12/POPULATION-ONE-Winter-Wonderland-Live-in-VR.jpg
GEO:37.09024;-95.712891
END:VEVENT
BEGIN:VEVENT
DTSTART;TZID=America/Los_Angeles:20211217T193000
DTEND;TZID=America/Los_Angeles:20211217T203000
DTSTAMP:20260423T060836
CREATED:20211215T224917Z
LAST-MODIFIED:20230305T193651Z
UID:10008287-1639769400-1639773000@live360video.com
SUMMARY:Losing Sight of Shore - Live in VR
DESCRIPTION:Losing Sight of Shore follows the extraordinary journey of the Coxless Crew\, four women who set out to row across the Pacific Ocean from America to Australia without any assistance. Experience this epic journey in 3 stages: San Francisco to Hawaii\, Hawaii to Samoa and Samoa to Australia with short breaks on land in between\, live in VR from the Emmy-award winning filmmaker Sarah Moshman. \nThis content is presented via Facebook Live stream in rectilinear format. \n\n\n\n\n\n\n\n\n\n\n\n\n\n\nWatch via Horizon Venues
URL:https://live360video.com/vr-stream/losing-sight-of-shore-live-in-vr/
LOCATION:Online Event\, United States
CATEGORIES:Documentary
ATTACH;FMTTYPE=image/jpeg:https://live360video.com/wp-content/uploads/2021/12/Losing-Sight-of-Shore-Live-in-VR.jpeg
GEO:37.09024;-95.712891
END:VEVENT
BEGIN:VEVENT
DTSTART;TZID=America/Los_Angeles:20211219T080000
DTEND;TZID=America/Los_Angeles:20211219T090000
DTSTAMP:20260423T060836
CREATED:20211203T134454Z
LAST-MODIFIED:20211203T134454Z
UID:10008059-1639900800-1639904400@live360video.com
SUMMARY:Sun Valley Community Church: Prince of Peace - Live in VR
DESCRIPTION:The Sun Valley ‘A Great Light’ series continues live in VR with a look at the Prince of Peace title – Live in VR from the Sun Valley Community Church\, a multi site church\, broadcasting from their campus in Gilbert\, Arizona. \n\n\n\n\n\n\n\n\n\n\n\n\n\n\nWatch via Horizon Venues \nThis content is presented via Facebook Live stream in 2D format
URL:https://live360video.com/vr-stream/sun-valley-community-church-prince-of-peace-live-in-vr/
LOCATION:Online Event\, United States
CATEGORIES:Concerts & Festivals
ATTACH;FMTTYPE=image/jpeg:https://live360video.com/wp-content/uploads/2021/11/Sun-Valley-Community-Church-Wonderful-Counselor-Live-in-VR.jpeg
GEO:37.09024;-95.712891
END:VEVENT
BEGIN:VEVENT
DTSTART;TZID=America/Los_Angeles:20211222T160000
DTEND;TZID=America/Los_Angeles:20211222T170000
DTSTAMP:20260423T060836
CREATED:20211220T215029Z
LAST-MODIFIED:20211220T215029Z
UID:10008293-1640188800-1640192400@live360video.com
SUMMARY:Quest Demos: Start Your Quest - Live in VR
DESCRIPTION:Get Quest’s best recommendations and super tips from VR experts DiscoVR\, TechMan Ju and FitPro VR live in VR. \n\n\n\n\n\n\n\n\n\n\n\n\n\n\nWatch via Horizon Venues \nThis content is presented via Facebook Live stream in 2D format
URL:https://live360video.com/vr-stream/quest-demos-start-your-quest-live-in-vr/
LOCATION:Online Event\, United States
CATEGORIES:eSports
ATTACH;FMTTYPE=image/jpeg:https://live360video.com/wp-content/uploads/2021/12/Quest-Demos-Start-Your-Quest-Live-in-VR.jpg
GEO:37.09024;-95.712891
END:VEVENT
BEGIN:VEVENT
DTSTART;TZID=America/Los_Angeles:20211224T133000
DTEND;TZID=America/Los_Angeles:20211224T143000
DTSTAMP:20260423T060836
CREATED:20211203T135020Z
LAST-MODIFIED:20211203T135020Z
UID:10008061-1640352600-1640356200@live360video.com
SUMMARY:Sun Valley Community Church: Christmas Eve - Live in VR
DESCRIPTION:John Chad Moore for the Sun Valley Christmas Eve service – Live in VR from the Sun Valley Community Church\, a multi site church\, broadcasting from their campus in Gilbert\, Arizona. \n\n\n\n\n\n\n\n\n\n\n\n\n\n\nWatch via Horizon Venues \nThis content is presented via Facebook Live stream in 2D format
URL:https://live360video.com/vr-stream/sun-valley-community-church-christmas-eve-live-in-vr/
LOCATION:Online Event\, United States
CATEGORIES:Concerts & Festivals
ATTACH;FMTTYPE=image/jpeg:https://live360video.com/wp-content/uploads/2021/11/Sun-Valley-Community-Church-Wonderful-Counselor-Live-in-VR.jpeg
GEO:37.09024;-95.712891
END:VEVENT
END:VCALENDAR