BEGIN:VCALENDAR
VERSION:2.0
PRODID:-//Live 360 Video - ECPv6.1.1//NONSGML v1.0//EN
CALSCALE:GREGORIAN
METHOD:PUBLISH
X-WR-CALNAME:Live 360 Video
X-ORIGINAL-URL:https://live360video.com
X-WR-CALDESC:Events for Live 360 Video
REFRESH-INTERVAL;VALUE=DURATION:PT1H
X-Robots-Tag:noindex
X-PUBLISHED-TTL:PT1H
BEGIN:VTIMEZONE
TZID:America/Los_Angeles
BEGIN:DAYLIGHT
TZOFFSETFROM:-0800
TZOFFSETTO:-0700
TZNAME:PDT
DTSTART:20210314T100000
END:DAYLIGHT
BEGIN:STANDARD
TZOFFSETFROM:-0700
TZOFFSETTO:-0800
TZNAME:PST
DTSTART:20211107T090000
END:STANDARD
END:VTIMEZONE
BEGIN:VEVENT
DTSTART;TZID=America/Los_Angeles:20210814T093000
DTEND;TZID=America/Los_Angeles:20210814T163000
DTSTAMP:20260423T124143
CREATED:20210810T161952Z
LAST-MODIFIED:20210810T164422Z
UID:10008218-1628933400-1628958600@live360video.com
SUMMARY:Onward Season 11 Championship Round Robins A - VRML - Live in VR
DESCRIPTION:More Onward Season 11 gaming madness for GROUP A in the round robins format! \nWatch the VR Master League thorough Oculus Venues live in VR. \nThis content is presented via Facebook Live stream in 2D format.
URL:https://live360video.com/vr-stream/onward-season-11-championship-round-robins-a-vrml-live-in-vr/
LOCATION:Online Event\, United States
CATEGORIES:eSports
ATTACH;FMTTYPE=image/jpeg:https://live360video.com/wp-content/uploads/2021/06/Onward-Venues-Showcase-Season-11-Week-8-VRML-Live-in-VR.jpeg
GEO:37.09024;-95.712891
END:VEVENT
BEGIN:VEVENT
DTSTART;TZID=America/Los_Angeles:20210815T093000
DTEND;TZID=America/Los_Angeles:20210815T163000
DTSTAMP:20260423T124143
CREATED:20210810T164244Z
LAST-MODIFIED:20210810T164244Z
UID:10008219-1629019800-1629045000@live360video.com
SUMMARY:Onward Season 11 Championship Round Robins B - VRML - Live in VR
DESCRIPTION:More Onward Season 11 gaming madness for GROUP B in the round robins format! \nWatch the VR Master League thorough Oculus Venues live in VR. \nThis content is presented via Facebook Live stream in 2D format.
URL:https://live360video.com/vr-stream/onward-season-11-championship-round-robins-b-vrml-live-in-vr/
LOCATION:Online Event\, United States
CATEGORIES:eSports
ATTACH;FMTTYPE=image/jpeg:https://live360video.com/wp-content/uploads/2021/06/Onward-Venues-Showcase-Season-11-Week-8-VRML-Live-in-VR.jpeg
GEO:37.09024;-95.712891
END:VEVENT
BEGIN:VEVENT
DTSTART;TZID=America/Los_Angeles:20210821T093000
DTEND;TZID=America/Los_Angeles:20210821T163000
DTSTAMP:20260423T124143
CREATED:20210810T165630Z
LAST-MODIFIED:20210810T165630Z
UID:10008221-1629538200-1629563400@live360video.com
SUMMARY:Onward Season 11 Championship Semi Finals VRML - Live in VR
DESCRIPTION:Watch the Onward Season 11 Championship Semi Finals live in VR thorough Oculus Venues\, featuring the 4 winners of the Round-Robins stage! \nThis content is presented via Facebook Live stream in 2D format.
URL:https://live360video.com/vr-stream/onward-season-11-championship-semi-finals-vrml-live-in-vr-2/
LOCATION:Online Event\, United States
CATEGORIES:eSports
ATTACH;FMTTYPE=image/jpeg:https://live360video.com/wp-content/uploads/2021/06/Onward-Venues-Showcase-Season-11-Week-8-VRML-Live-in-VR.jpeg
GEO:37.09024;-95.712891
END:VEVENT
BEGIN:VEVENT
DTSTART;TZID=America/Los_Angeles:20210822T093000
DTEND;TZID=America/Los_Angeles:20210822T163000
DTSTAMP:20260423T124143
CREATED:20210810T164846Z
LAST-MODIFIED:20210810T165123Z
UID:10008220-1629624600-1629649800@live360video.com
SUMMARY:Onward Season 11 Championship Finals VRML - Live in VR
DESCRIPTION:Watch the Onward Season 11 Championship Finals live in VR thorough Oculus Venues\, also featuring the the bronze medal play off! \nThis content is presented via Facebook Live stream in 2D format.
URL:https://live360video.com/vr-stream/onward-season-11-championship-finals-vrml-live-in-vr/
LOCATION:Online Event\, United States
CATEGORIES:eSports
ATTACH;FMTTYPE=image/jpeg:https://live360video.com/wp-content/uploads/2021/06/Onward-Venues-Showcase-Season-11-Week-8-VRML-Live-in-VR.jpeg
GEO:37.09024;-95.712891
END:VEVENT
END:VCALENDAR