BEGIN:VCALENDAR
VERSION:2.0
PRODID:-//Live 360 Video - ECPv6.1.1//NONSGML v1.0//EN
CALSCALE:GREGORIAN
METHOD:PUBLISH
X-ORIGINAL-URL:https://live360video.com
X-WR-CALDESC:Events for Live 360 Video
REFRESH-INTERVAL;VALUE=DURATION:PT1H
X-Robots-Tag:noindex
X-PUBLISHED-TTL:PT1H
BEGIN:VTIMEZONE
TZID:America/Los_Angeles
BEGIN:DAYLIGHT
TZOFFSETFROM:-0800
TZOFFSETTO:-0700
TZNAME:PDT
DTSTART:20180311T100000
END:DAYLIGHT
BEGIN:STANDARD
TZOFFSETFROM:-0700
TZOFFSETTO:-0800
TZNAME:PST
DTSTART:20181104T090000
END:STANDARD
BEGIN:DAYLIGHT
TZOFFSETFROM:-0800
TZOFFSETTO:-0700
TZNAME:PDT
DTSTART:20190310T100000
END:DAYLIGHT
BEGIN:STANDARD
TZOFFSETFROM:-0700
TZOFFSETTO:-0800
TZNAME:PST
DTSTART:20191103T090000
END:STANDARD
END:VTIMEZONE
BEGIN:VEVENT
DTSTART;TZID=America/Los_Angeles:20180408T100000
DTEND;TZID=America/Los_Angeles:20180408T130000
DTSTAMP:20260420T160703
CREATED:20171207T131941Z
LAST-MODIFIED:20171207T131941Z
UID:10007624-1523181600-1523192400@live360video.com
SUMMARY:Pacers at Hornets - Live in VR
DESCRIPTION:The Indiana Pacers take on the Charlotte Hornets at the Spectrum Center in Charlotte. You can watch this game live in VR via the Oculus App with the NBA League Pass.
URL:https://live360video.com/vr-stream/pacers-hornets-live-vr/
LOCATION:Spectrum Center\, 333 E Trade St\, Charlotte\, NC\, 28202\, United States
CATEGORIES:Basketball,Sports
ATTACH;FMTTYPE=image/jpeg:https://live360video.com/wp-content/uploads/2017/12/Pacers-at-Hornets-Live-in-VR.jpg
GEO:35.2250921;-80.8392218
X-APPLE-STRUCTURED-LOCATION;VALUE=URI;X-ADDRESS=Spectrum Center 333 E Trade St Charlotte NC 28202 United States;X-APPLE-RADIUS=500;X-TITLE=333 E Trade St:geo:-80.8392218,35.2250921
END:VEVENT
BEGIN:VEVENT
DTSTART;TZID=America/Los_Angeles:20190204T170000
DTEND;TZID=America/Los_Angeles:20190204T200000
DTSTAMP:20260420T160703
CREATED:20181019T070935Z
LAST-MODIFIED:20181019T070935Z
UID:10007922-1549299600-1549310400@live360video.com
SUMMARY:Pacers at Pelicans - Live in VR
DESCRIPTION:Indiana Pacers take on New Orleans Pelicans at the Smoothie King Center in New Orleans\, Louisiana. Experience being courtside in virtual reality for single games or using the NBA League Pass. You can watch this game live in VR via the Next VR App for Oculus Go\, Playstation VR\, HTC Vive\, Gear VR\, Daydream and Windows Mixed Reality VR headsets.
URL:https://live360video.com/vr-stream/pacers-at-pelicans-live-in-vr/
LOCATION:Smoothie King Center\, 1501 Dave Dixon Dr\, New Orleans\, LA\, 70113\, United States
CATEGORIES:Basketball,Sports
ATTACH;FMTTYPE=image/jpeg:https://live360video.com/wp-content/uploads/2018/10/Pacers-at-Pelicans-Live-in-VR.jpg
GEO:29.9491621;-90.082143
X-APPLE-STRUCTURED-LOCATION;VALUE=URI;X-ADDRESS=Smoothie King Center 1501 Dave Dixon Dr New Orleans LA 70113 United States;X-APPLE-RADIUS=500;X-TITLE=1501 Dave Dixon Dr:geo:-90.082143,29.9491621
END:VEVENT
END:VCALENDAR