BEGIN:VCALENDAR
VERSION:2.0
PRODID:-//Live 360 Video - ECPv6.1.1//NONSGML v1.0//EN
CALSCALE:GREGORIAN
METHOD:PUBLISH
X-WR-CALNAME:Live 360 Video
X-ORIGINAL-URL:https://live360video.com
X-WR-CALDESC:Events for Live 360 Video
REFRESH-INTERVAL;VALUE=DURATION:PT1H
X-Robots-Tag:noindex
X-PUBLISHED-TTL:PT1H
BEGIN:VTIMEZONE
TZID:America/Los_Angeles
BEGIN:DAYLIGHT
TZOFFSETFROM:-0800
TZOFFSETTO:-0700
TZNAME:PDT
DTSTART:20170312T100000
END:DAYLIGHT
BEGIN:STANDARD
TZOFFSETFROM:-0700
TZOFFSETTO:-0800
TZNAME:PST
DTSTART:20171105T090000
END:STANDARD
BEGIN:DAYLIGHT
TZOFFSETFROM:-0800
TZOFFSETTO:-0700
TZNAME:PDT
DTSTART:20180311T100000
END:DAYLIGHT
BEGIN:STANDARD
TZOFFSETFROM:-0700
TZOFFSETTO:-0800
TZNAME:PST
DTSTART:20181104T090000
END:STANDARD
BEGIN:DAYLIGHT
TZOFFSETFROM:-0800
TZOFFSETTO:-0700
TZNAME:PDT
DTSTART:20190310T100000
END:DAYLIGHT
BEGIN:STANDARD
TZOFFSETFROM:-0700
TZOFFSETTO:-0800
TZNAME:PST
DTSTART:20191103T090000
END:STANDARD
BEGIN:DAYLIGHT
TZOFFSETFROM:-0800
TZOFFSETTO:-0700
TZNAME:PDT
DTSTART:20200308T100000
END:DAYLIGHT
BEGIN:STANDARD
TZOFFSETFROM:-0700
TZOFFSETTO:-0800
TZNAME:PST
DTSTART:20201101T090000
END:STANDARD
END:VTIMEZONE
BEGIN:VEVENT
DTSTART;TZID=America/Los_Angeles:20170328T163000
DTEND;TZID=America/Los_Angeles:20170328T190000
DTSTAMP:20260419T205940
CREATED:20170210T162028Z
LAST-MODIFIED:20170210T162228Z
UID:10007670-1490718600-1490727600@live360video.com
SUMMARY:Heat at Pistons - Live in VR
DESCRIPTION:The Miami Heat take on the Detroit Pistons at the Palace of Auburn Hills. You can watch this game live in VR with an NBA League Pass.
URL:https://live360video.com/vr-stream/heat-pistons-live-vr/
LOCATION:The Palace of Auburn Hills\, 6 Championship Dr\, Auburn Hills\, MI\, 48326\, United States
CATEGORIES:Basketball,Sports
ATTACH;FMTTYPE=image/jpeg:https://live360video.com/wp-content/uploads/2017/02/Heat-at-Pistons-in-vr.jpeg
GEO:42.6971287;-83.2455174
X-APPLE-STRUCTURED-LOCATION;VALUE=URI;X-ADDRESS=The Palace of Auburn Hills 6 Championship Dr Auburn Hills MI 48326 United States;X-APPLE-RADIUS=500;X-TITLE=6 Championship Dr:geo:-83.2455174,42.6971287
END:VEVENT
BEGIN:VEVENT
DTSTART;TZID=America/Los_Angeles:20171120T160000
DTEND;TZID=America/Los_Angeles:20171120T190000
DTSTAMP:20260419T205940
CREATED:20171025T084718Z
LAST-MODIFIED:20171025T084718Z
UID:10007614-1511193600-1511204400@live360video.com
SUMMARY:Cavaliers at Pistons - Live in VR
DESCRIPTION:The Cleveland Cavaliers take on the Detroit Pistons at the Little Caesars Arena in Detroit. You can watch this game live in VR via the Oculus App with the NBA League Pass.
URL:https://live360video.com/vr-stream/cavaliers-pistons-live-vr/
LOCATION:Little Caesars Arena\, 2645 Woodward Avenue\, Detroit\, MI\, 48201\, United States
ATTACH;FMTTYPE=image/jpeg:https://live360video.com/wp-content/uploads/2017/10/Cavaliers-at-Pistons-Live-in-VR.jpg
GEO:42.341949;-83.054694
X-APPLE-STRUCTURED-LOCATION;VALUE=URI;X-ADDRESS=Little Caesars Arena 2645 Woodward Avenue Detroit MI 48201 United States;X-APPLE-RADIUS=500;X-TITLE=2645 Woodward Avenue:geo:-83.054694,42.341949
END:VEVENT
BEGIN:VEVENT
DTSTART;TZID=America/Los_Angeles:20190112T123000
DTEND;TZID=America/Los_Angeles:20190112T153000
DTSTAMP:20260419T205940
CREATED:20181017T095609Z
LAST-MODIFIED:20181105T083015Z
UID:10007697-1547296200-1547307000@live360video.com
SUMMARY:Pistons at Clippers - Live in VR
DESCRIPTION:Detroit Pistons take on LA Clippers at the Staples Center in Los Angeles\, California. Experience being courtside in virtual reality for single games or using the NBA League Pass. You can watch this game live in VR via the Next VR App for Oculus Go\, Playstation VR\, HTC Vive\, Gear VR\, Daydream and Windows Mixed Reality VR headsets.
URL:https://live360video.com/vr-stream/pistons-at-clippers-live-in-vr/
LOCATION:Staples Center\, 1111 S Figueroa St\, Los Angeles\, CA\, 90015\, United States
CATEGORIES:Basketball,Sports
ATTACH;FMTTYPE=image/jpeg:https://live360video.com/wp-content/uploads/2018/10/Pistons-at-Clippers-Live-in-VR.jpg
GEO:34.0430058;-118.2673597
X-APPLE-STRUCTURED-LOCATION;VALUE=URI;X-ADDRESS=Staples Center 1111 S Figueroa St Los Angeles CA 90015 United States;X-APPLE-RADIUS=500;X-TITLE=1111 S Figueroa St:geo:-118.2673597,34.0430058
END:VEVENT
BEGIN:VEVENT
DTSTART;TZID=America/Los_Angeles:20200105T190000
DTEND;TZID=America/Los_Angeles:20200105T220000
DTSTAMP:20260419T205940
CREATED:20191115T145827Z
LAST-MODIFIED:20191125T093214Z
UID:10007878-1578250800-1578261600@live360video.com
SUMMARY:Detroit Pistons at LA Lakers - Live in VR
DESCRIPTION:The Detroit Pistons take on LA Lakers at the Staples Center in LA. This game is available live in vr on all NextVR platforms with a NBA League Pass subscription.
URL:https://live360video.com/vr-stream/detroit-pistons-at-la-lakers-live-in-vr/
LOCATION:Staples Center\, 1111 S Figueroa St\, Los Angeles\, CA\, 90015\, United States
CATEGORIES:Basketball,Sports
ATTACH;FMTTYPE=image/jpeg:https://live360video.com/wp-content/uploads/2019/11/Detroit-Pistons-at-LA-Lakers-Live-in-VR.jpg
GEO:34.0430058;-118.2673597
X-APPLE-STRUCTURED-LOCATION;VALUE=URI;X-ADDRESS=Staples Center 1111 S Figueroa St Los Angeles CA 90015 United States;X-APPLE-RADIUS=500;X-TITLE=1111 S Figueroa St:geo:-118.2673597,34.0430058
END:VEVENT
END:VCALENDAR