BEGIN:VCALENDAR
VERSION:2.0
PRODID:-//Live 360 Video - ECPv6.1.1//NONSGML v1.0//EN
CALSCALE:GREGORIAN
METHOD:PUBLISH
X-ORIGINAL-URL:https://live360video.com
X-WR-CALDESC:Events for Live 360 Video
REFRESH-INTERVAL;VALUE=DURATION:PT1H
X-Robots-Tag:noindex
X-PUBLISHED-TTL:PT1H
BEGIN:VTIMEZONE
TZID:America/Los_Angeles
BEGIN:DAYLIGHT
TZOFFSETFROM:-0800
TZOFFSETTO:-0700
TZNAME:PDT
DTSTART:20190310T100000
END:DAYLIGHT
BEGIN:STANDARD
TZOFFSETFROM:-0700
TZOFFSETTO:-0800
TZNAME:PST
DTSTART:20191103T090000
END:STANDARD
END:VTIMEZONE
BEGIN:VEVENT
DTSTART;TZID=America/Los_Angeles:20190605T180000
DTEND;TZID=America/Los_Angeles:20190605T210000
DTSTAMP:20260420T061059
CREATED:20190531T102658Z
LAST-MODIFIED:20190903T083820Z
UID:10007754-1559757600-1559768400@live360video.com
SUMMARY:Shallou in Concert - Live in VR
DESCRIPTION:Experience Shallou live in concert with the best seats in the house\, live in vr from the Shrine Auditorium and Expo Hall in LA. Immerse yourself 3D VR\, exclusively available using the NextVR app.
URL:https://live360video.com/vr-stream/shallou-in-concert-live-in-vr/2019-06-05/
LOCATION:CA\, United States
CATEGORIES:Concerts & Festivals
ATTACH;FMTTYPE=image/png:https://live360video.com/wp-content/uploads/2019/05/Shallou-In-Concert-Live-in-VR.png
GEO:36.778261;-119.4179324
END:VEVENT
BEGIN:VEVENT
DTSTART;TZID=America/Los_Angeles:20190626T180000
DTEND;TZID=America/Los_Angeles:20190626T210000
DTSTAMP:20260420T061059
CREATED:20190531T102658Z
LAST-MODIFIED:20190903T083820Z
UID:10007755-1561572000-1561582800@live360video.com
SUMMARY:Shallou in Concert - Live in VR
DESCRIPTION:Experience Shallou live in concert with the best seats in the house\, live in vr from the Shrine Auditorium and Expo Hall in LA. Immerse yourself 3D VR\, exclusively available using the NextVR app.
URL:https://live360video.com/vr-stream/shallou-in-concert-live-in-vr/2019-06-26/
LOCATION:CA\, United States
CATEGORIES:Concerts & Festivals
ATTACH;FMTTYPE=image/png:https://live360video.com/wp-content/uploads/2019/05/Shallou-In-Concert-Live-in-VR.png
GEO:36.778261;-119.4179324
END:VEVENT
BEGIN:VEVENT
DTSTART;TZID=America/Los_Angeles:20190901T170000
DTEND;TZID=America/Los_Angeles:20190901T200000
DTSTAMP:20260420T061059
CREATED:20190531T102658Z
LAST-MODIFIED:20190903T083820Z
UID:10007756-1567357200-1567368000@live360video.com
SUMMARY:Shallou in Concert - Live in VR
DESCRIPTION:Experience Shallou live in concert with the best seats in the house\, live in vr from the Shrine Auditorium and Expo Hall in LA. Immerse yourself 3D VR\, exclusively available using the NextVR app.
URL:https://live360video.com/vr-stream/shallou-in-concert-live-in-vr/2019-09-01/
LOCATION:CA\, United States
CATEGORIES:Concerts & Festivals
ATTACH;FMTTYPE=image/png:https://live360video.com/wp-content/uploads/2019/05/Shallou-In-Concert-Live-in-VR.png
GEO:36.778261;-119.4179324
END:VEVENT
END:VCALENDAR