BEGIN:VCALENDAR
VERSION:2.0
PRODID:-//Live 360 Video - ECPv6.1.1//NONSGML v1.0//EN
CALSCALE:GREGORIAN
METHOD:PUBLISH
X-WR-CALNAME:Live 360 Video
X-ORIGINAL-URL:https://live360video.com
X-WR-CALDESC:Events for Live 360 Video
REFRESH-INTERVAL;VALUE=DURATION:PT1H
X-Robots-Tag:noindex
X-PUBLISHED-TTL:PT1H
BEGIN:VTIMEZONE
TZID:America/Los_Angeles
BEGIN:DAYLIGHT
TZOFFSETFROM:-0800
TZOFFSETTO:-0700
TZNAME:PDT
DTSTART:20220313T100000
END:DAYLIGHT
BEGIN:STANDARD
TZOFFSETFROM:-0700
TZOFFSETTO:-0800
TZNAME:PST
DTSTART:20221106T090000
END:STANDARD
END:VTIMEZONE
BEGIN:VEVENT
DTSTART;TZID=America/Los_Angeles:20220202T180000
DTEND;TZID=America/Los_Angeles:20220202T190000
DTSTAMP:20260423T112845
CREATED:20210302T094822Z
LAST-MODIFIED:20220131T114806Z
UID:10007916-1643824800-1643828400@live360video.com
SUMMARY:Alex Maas - Live in VR
DESCRIPTION:The Black Angels lead singer Alex Maas will lay down some dark\, moody\, synth-laden\, psychedelic Goth vibes as pat of the Three Cities Musical Tour in New Orleans\, Austin and Nashville. Watch live in vr via Horizon Venues.
URL:https://live360video.com/vr-stream/alex-maas-live-in-vr/2022-02-02/
LOCATION:Online Event\, United States
CATEGORIES:Concerts & Festivals
ATTACH;FMTTYPE=image/jpeg:https://live360video.com/wp-content/uploads/2021/03/Alex-Maas-Live-in-VR.jpeg
GEO:37.09024;-95.712891
END:VEVENT
BEGIN:VEVENT
DTSTART;TZID=America/Los_Angeles:20220208T060000
DTEND;TZID=America/Los_Angeles:20220208T191000
DTSTAMP:20260423T112845
CREATED:20210201T165355Z
LAST-MODIFIED:20220204T122328Z
UID:10008122-1644300000-1644347400@live360video.com
SUMMARY:Monique Marshall - As Soon as They Can Talk - Live in VR
DESCRIPTION:“We must raise our children differently if we want to dismantle systemic racism in America.” Monique Marshall is an educator and mother working with young children for more than 30 years and shares her personal journey into self awareness and learning about race and racism in USA. Live in VR via Horizon Venues.
URL:https://live360video.com/vr-stream/monique-marshall-as-soon-as-they-can-talk-live-in-vr/2022-02-08/
LOCATION:Online Event\, United States
CATEGORIES:Entertainment,Interviews
ATTACH;FMTTYPE=image/jpeg:https://live360video.com/wp-content/uploads/2021/02/Monique-Marshall-live-in-VR.jpg
GEO:37.09024;-95.712891
END:VEVENT
BEGIN:VEVENT
DTSTART;TZID=America/Los_Angeles:20220209T180000
DTEND;TZID=America/Los_Angeles:20220209T190000
DTSTAMP:20260423T112845
CREATED:20210811T082207Z
LAST-MODIFIED:20220209T175222Z
UID:10008223-1644429600-1644433200@live360video.com
SUMMARY:Larry Stephenson - Live in VR
DESCRIPTION:Experience a performance live in vr of one of Bluegrass music’s most significant vocalists\, Nashville’s Larry Stephenson. \nWatch via Horizon Venues and Supersphere.
URL:https://live360video.com/vr-stream/larry-stephenson-live-in-vr/2022-02-09/
LOCATION:Online Event\, United States
CATEGORIES:Concerts & Festivals
ATTACH;FMTTYPE=image/jpeg:https://live360video.com/wp-content/uploads/2021/08/Larry-Stephenson-Live-in-VR.jpeg
GEO:37.09024;-95.712891
END:VEVENT
BEGIN:VEVENT
DTSTART;TZID=America/Los_Angeles:20220215T180000
DTEND;TZID=America/Los_Angeles:20220215T190000
DTSTAMP:20260423T112845
CREATED:20210218T183824Z
LAST-MODIFIED:20220209T180715Z
UID:10007902-1644948000-1644951600@live360video.com
SUMMARY:"Burn Baby Burn" - Tyree Boyd-Pates - Live in VR
DESCRIPTION:History curator\, professor\, writer\, and speaker Tyree Boyd-Pates explains Black culture from a millennial perspective and “Burn Baby\, Burn looks at the historical Reflections of the Los Angeles Uprisings during Black History Month. Watch and listen live in vr via Horizon Venues.
URL:https://live360video.com/vr-stream/burn-baby-burn-tyree-boyd-pates-live-in-vr/2022-02-15/
LOCATION:Online Event\, United States
CATEGORIES:Concerts & Festivals
ATTACH;FMTTYPE=image/jpeg:https://live360video.com/wp-content/uploads/2021/02/Burn-Baby-Burn_-Tyree-Boyd-Pates-Live-in-VR.jpg
GEO:37.09024;-95.712891
END:VEVENT
BEGIN:VEVENT
DTSTART;TZID=America/Los_Angeles:20220216T180000
DTEND;TZID=America/Los_Angeles:20220216T190000
DTSTAMP:20260423T112845
CREATED:20210811T084901Z
LAST-MODIFIED:20220209T180940Z
UID:10008227-1645034400-1645038000@live360video.com
SUMMARY:Jerry Douglas - Live in VR
DESCRIPTION:14-time Grammy winner Jerry Douglas is a resonator guitar GOAT who has transformed it’s use as an instrument in numerous and exciting ways. \nWatch live in vr via Horizon Venues and Supersphere
URL:https://live360video.com/vr-stream/jerry-douglas-live-in-vr/2022-02-16/
LOCATION:Online Event\, United States
CATEGORIES:Concerts & Festivals
ATTACH;FMTTYPE=image/jpeg:https://live360video.com/wp-content/uploads/2021/08/Jerry-Douglas-Live-in-VR.jpeg
GEO:37.09024;-95.712891
END:VEVENT
BEGIN:VEVENT
DTSTART;TZID=America/Los_Angeles:20220228T180000
DTEND;TZID=America/Los_Angeles:20220228T190000
DTSTAMP:20260423T112845
CREATED:20220214T121116Z
LAST-MODIFIED:20220223T095233Z
UID:10008120-1646071200-1646074800@live360video.com
SUMMARY:The Art of Documentary - Alex Winter - Live in VR
DESCRIPTION:Alex Winter shares what documentaries mean to him\, and the whys and hows of making them\, from beginning to completion. \nWatch live in VR via Horizon Venues
URL:https://live360video.com/vr-stream/art-of-documentary-alex-winter-live-in-vr/
LOCATION:Online Event\, United States
CATEGORIES:Documentary
ATTACH;FMTTYPE=image/jpeg:https://live360video.com/wp-content/uploads/2022/02/Art-of-Documentary-Alex-Winter-Live-in-VR.jpg
GEO:37.09024;-95.712891
END:VEVENT
END:VCALENDAR