BEGIN:VCALENDAR
VERSION:2.0
PRODID:-//Live 360 Video - ECPv6.1.1//NONSGML v1.0//EN
CALSCALE:GREGORIAN
METHOD:PUBLISH
X-WR-CALNAME:Live 360 Video
X-ORIGINAL-URL:https://live360video.com
X-WR-CALDESC:Events for Live 360 Video
REFRESH-INTERVAL;VALUE=DURATION:PT1H
X-Robots-Tag:noindex
X-PUBLISHED-TTL:PT1H
BEGIN:VTIMEZONE
TZID:America/Los_Angeles
BEGIN:DAYLIGHT
TZOFFSETFROM:-0800
TZOFFSETTO:-0700
TZNAME:PDT
DTSTART:20190310T100000
END:DAYLIGHT
BEGIN:STANDARD
TZOFFSETFROM:-0700
TZOFFSETTO:-0800
TZNAME:PST
DTSTART:20191103T090000
END:STANDARD
END:VTIMEZONE
BEGIN:VEVENT
DTSTART;TZID=America/Los_Angeles:20190328T161000
DTEND;TZID=America/Los_Angeles:20190328T183000
DTSTAMP:20260423T090646
CREATED:20190325T091238Z
LAST-MODIFIED:20190325T092623Z
UID:10007985-1553789400-1553797800@live360video.com
SUMMARY:NCAA Sweet 16 - Florida St. vs. Gonzaga - Live in VR
DESCRIPTION:Watch the game between Florida St. vs. Gonzaga in the sweet 16 of 2019 NCAA March Madness live in vr! Turner Sports partners with CBS\, the NCAA\, and Intel\, to release a virtual reality app for the fourth year — NCAA March Madness Live VR using Gear VR and Oculus Go devices.
URL:https://live360video.com/vr-stream/ncaa-sweet-16-florida-st-vs-gonzaga-live-in-vr/
LOCATION:Honda Center\, 2695 E Katella Ave\, Anaheim\, Anaheim\, CA\, CA 92806\, United States
CATEGORIES:Basketball,Sports
ATTACH;FMTTYPE=image/jpeg:https://live360video.com/wp-content/uploads/2019/03/NCAA-Florida-St.-vs.-Gonzaga-Live-in-VR.jpg
GEO:33.8079071;-117.8767457
X-APPLE-STRUCTURED-LOCATION;VALUE=URI;X-ADDRESS=Honda Center 2695 E Katella Ave Anaheim Anaheim CA CA 92806 United States;X-APPLE-RADIUS=500;X-TITLE=2695 E Katella Ave\, Anaheim:geo:-117.8767457,33.8079071
END:VEVENT
BEGIN:VEVENT
DTSTART;TZID=America/Los_Angeles:20190328T180000
DTEND;TZID=America/Los_Angeles:20190328T210000
DTSTAMP:20260423T090646
CREATED:20180620T093150Z
LAST-MODIFIED:20190701T083312Z
UID:10007805-1553796000-1553806800@live360video.com
SUMMARY:Gotham Comedy Club - Live in VR
DESCRIPTION:Experience Gotham Comedy Club Live in VR from NextVR. Enjoy standup acts from New York City’s Gotham Comedy Club. Available live in VR using Oculus Go and Gear VR. \n 
URL:https://live360video.com/vr-stream/gotham-comedy-club-live-in-vr-2018-12-06/2019-03-28/
LOCATION:Gotham Comedy Club\, 208 W 23rd St\, New York\, NY\, NY 10011\, United States
CATEGORIES:Comedy,Entertainment
ATTACH;FMTTYPE=image/jpeg:https://live360video.com/wp-content/uploads/2018/06/Gotham-Comedy-Club-Live-in-VR-1.jpg
GEO:40.7440535;-73.9964321
X-APPLE-STRUCTURED-LOCATION;VALUE=URI;X-ADDRESS=Gotham Comedy Club 208 W 23rd St New York NY NY 10011 United States;X-APPLE-RADIUS=500;X-TITLE=208 W 23rd St:geo:-73.9964321,40.7440535
END:VEVENT
BEGIN:VEVENT
DTSTART;TZID=America/Los_Angeles:20190328T183000
DTEND;TZID=America/Los_Angeles:20190328T203000
DTSTAMP:20260423T090646
CREATED:20190325T091702Z
LAST-MODIFIED:20190325T092748Z
UID:10007988-1553797800-1553805000@live360video.com
SUMMARY:NCAA Sweet 16 - Texas Tech vs. Michigan - Live in VR
DESCRIPTION:Watch the game between Texas Tech vs. Michigan in the sweet 16 of 2019 NCAA March Madness live in vr! Turner Sports partners with CBS\, the NCAA\, and Intel\, to release a virtual reality app for the fourth year — NCAA March Madness Live VR using Gear VR and Oculus Go devices.
URL:https://live360video.com/vr-stream/ncaa-sweet-16-texas-tech-vs-michigan-live-in-vr/
LOCATION:Honda Center\, 2695 E Katella Ave\, Anaheim\, Anaheim\, CA\, CA 92806\, United States
CATEGORIES:Basketball,Sports
ATTACH;FMTTYPE=image/jpeg:https://live360video.com/wp-content/uploads/2019/03/NCAA-Texas-Tech-vs.-Michigan-Live-in-VR.jpg
GEO:33.8079071;-117.8767457
X-APPLE-STRUCTURED-LOCATION;VALUE=URI;X-ADDRESS=Honda Center 2695 E Katella Ave Anaheim Anaheim CA CA 92806 United States;X-APPLE-RADIUS=500;X-TITLE=2695 E Katella Ave\, Anaheim:geo:-117.8767457,33.8079071
END:VEVENT
BEGIN:VEVENT
DTSTART;TZID=America/Los_Angeles:20190329T080000
DTEND;TZID=America/Los_Angeles:20190329T170000
DTSTAMP:20260423T090646
CREATED:20190325T093155Z
LAST-MODIFIED:20190325T093229Z
UID:10007992-1553846400-1553878800@live360video.com
SUMMARY:NCAA Sweet 16 - Virginia Tech vs. Duke - Live in VR
DESCRIPTION:Watch the game between Virginia Tech vs. Duke in the sweet 16 of 2019 NCAA March Madness live in vr! Turner Sports partners with CBS\, the NCAA\, and Intel\, to release a virtual reality app for the fourth year — NCAA March Madness Live VR using Gear VR and Oculus Go devices.
URL:https://live360video.com/vr-stream/ncaa-sweet-16-virginia-tech-vs-duke-live-in-vr/
LOCATION:Capital One Arena\, 601 F St NW\, Washington\, Washington DC\, DC 20004\, United States
CATEGORIES:Basketball,Sports
ATTACH;FMTTYPE=image/jpeg:https://live360video.com/wp-content/uploads/2019/03/NCAA-Virginia-Tech-vs.-Duke-Live-in-VR.jpg
GEO:38.8981248;-77.020963
X-APPLE-STRUCTURED-LOCATION;VALUE=URI;X-ADDRESS=Capital One Arena 601 F St NW Washington Washington DC DC 20004 United States;X-APPLE-RADIUS=500;X-TITLE=601 F St NW:geo:-77.020963,38.8981248
END:VEVENT
BEGIN:VEVENT
DTSTART;TZID=America/Los_Angeles:20190329T161000
DTEND;TZID=America/Los_Angeles:20190329T183000
DTSTAMP:20260423T090646
CREATED:20190325T092433Z
LAST-MODIFIED:20190325T093033Z
UID:10007990-1553875800-1553884200@live360video.com
SUMMARY:NCAA Sweet 16 - LSU vs. Michigan State - Live in VR
DESCRIPTION:Watch the game between LSU vs. Michigan State in the sweet 16 of 2019 NCAA March Madness live in vr! Turner Sports partners with CBS\, the NCAA\, and Intel\, to release a virtual reality app for the fourth year — NCAA March Madness Live VR using Gear VR and Oculus Go devices.
URL:https://live360video.com/vr-stream/ncaa-sweet-16-lsu-vs-michigan-state-live-in-vr/
LOCATION:Capital One Arena\, 601 F St NW\, Washington\, Washington DC\, DC 20004\, United States
CATEGORIES:Basketball,Sports
ATTACH;FMTTYPE=image/jpeg:https://live360video.com/wp-content/uploads/2019/03/NCAA-LSU-vs.-Michigan-State-Live-in-VR.jpg
GEO:38.8981248;-77.020963
X-APPLE-STRUCTURED-LOCATION;VALUE=URI;X-ADDRESS=Capital One Arena 601 F St NW Washington Washington DC DC 20004 United States;X-APPLE-RADIUS=500;X-TITLE=601 F St NW:geo:-77.020963,38.8981248
END:VEVENT
BEGIN:VEVENT
DTSTART;TZID=America/Los_Angeles:20190329T170000
DTEND;TZID=America/Los_Angeles:20190329T200000
DTSTAMP:20260423T090646
CREATED:20181022T143401Z
LAST-MODIFIED:20181105T084247Z
UID:10007929-1553878800-1553889600@live360video.com
SUMMARY:Warriors at Timberwolves - Live in VR
DESCRIPTION:Golden State Warriors take on Minnesota Timberwolves at the Target Center in Minneapolis\, Minnesota. Experience being courtside in virtual reality for single games or using the NBA League Pass. You can watch this game live in VR via the Next VR App for Oculus Go\, Playstation VR\, HTC Vive\, Gear VR\, Daydream and Windows Mixed Reality VR headsets.
URL:https://live360video.com/vr-stream/warriors-at-timberwolves-live-in-vr/
LOCATION:Target Center\, 600 N 1st Ave\, Minnesota\, Minneapolis\, MN 55403\, United States
CATEGORIES:Basketball,Sports
ATTACH;FMTTYPE=image/jpeg:https://live360video.com/wp-content/uploads/2018/10/Warriors-at-Timberwolves-Live-in-VR.jpeg
GEO:44.9797341;-93.2760596
X-APPLE-STRUCTURED-LOCATION;VALUE=URI;X-ADDRESS=Target Center 600 N 1st Ave Minnesota Minneapolis MN 55403 United States;X-APPLE-RADIUS=500;X-TITLE=600 N 1st Ave:geo:-93.2760596,44.9797341
END:VEVENT
BEGIN:VEVENT
DTSTART;TZID=America/Los_Angeles:20190330T151000
DTEND;TZID=America/Los_Angeles:20190330T180000
DTSTAMP:20260423T090646
CREATED:20190330T104110Z
LAST-MODIFIED:20190330T171926Z
UID:10007994-1553958600-1553968800@live360video.com
SUMMARY:NCAA Elite 8 - Gonzaga vs. Texas Tech - Live in VR
DESCRIPTION:Watch the game between Gonzaga vs. Texas Tech at the Honda Center in California\, in the Elite 8 of 2019 NCAA March Madness\, live in vr! Turner Sports partners with CBS\, the NCAA\, and Intel\, to release a virtual reality app for the fourth year — NCAA March Madness Live VR using Gear VR and Oculus Go devices.
URL:https://live360video.com/vr-stream/ncaa-elite-8-gonzaga-vs-texas-tech-live-in-vr/
LOCATION:Honda Center\, 2695 E Katella Ave\, Anaheim\, Anaheim\, CA\, CA 92806\, United States
CATEGORIES:Basketball,Sports
ATTACH;FMTTYPE=image/jpeg:https://live360video.com/wp-content/uploads/2019/03/NCAA-ELite-8-Gonzaga-vs.-Texas-Tech-Live-in-VR.jpg
GEO:33.8079071;-117.8767457
X-APPLE-STRUCTURED-LOCATION;VALUE=URI;X-ADDRESS=Honda Center 2695 E Katella Ave Anaheim Anaheim CA CA 92806 United States;X-APPLE-RADIUS=500;X-TITLE=2695 E Katella Ave\, Anaheim:geo:-117.8767457,33.8079071
END:VEVENT
BEGIN:VEVENT
DTSTART;TZID=America/Los_Angeles:20190331T040000
DTEND;TZID=America/Los_Angeles:20190331T080000
DTSTAMP:20260423T090646
CREATED:20190312T104304Z
LAST-MODIFIED:20190313T092235Z
UID:10007974-1554004800-1554019200@live360video.com
SUMMARY:VR League - Onward NA - Cup #2 - Live in VR
DESCRIPTION:Season 3 of VR League is upon us and the next step in the evolution of VR esports\, with this season’s prizes totalling $250\,000 USD. Watch the competition live in vr by using Oculus\, the VR League is home to Echo Arena\, Echo Combat\, Onward\, and Space Junkies.
URL:https://live360video.com/vr-stream/vr-league-onward-na-cup-2-live-in-vr/2019-03-31/1/
CATEGORIES:eSports
ATTACH;FMTTYPE=image/png:https://live360video.com/wp-content/uploads/2019/03/VR-League.png
END:VEVENT
BEGIN:VEVENT
DTSTART;TZID=America/Los_Angeles:20190331T100000
DTEND;TZID=America/Los_Angeles:20190331T140000
DTSTAMP:20260423T090646
CREATED:20190312T104304Z
LAST-MODIFIED:20190313T092235Z
UID:10007975-1554026400-1554040800@live360video.com
SUMMARY:VR League - Onward NA - Cup #2 - Live in VR
DESCRIPTION:Season 3 of VR League is upon us and the next step in the evolution of VR esports\, with this season’s prizes totalling $250\,000 USD. Watch the competition live in vr by using Oculus\, the VR League is home to Echo Arena\, Echo Combat\, Onward\, and Space Junkies.
URL:https://live360video.com/vr-stream/vr-league-onward-na-cup-2-live-in-vr/2019-03-31/2/
CATEGORIES:eSports
ATTACH;FMTTYPE=image/png:https://live360video.com/wp-content/uploads/2019/03/VR-League.png
END:VEVENT
BEGIN:VEVENT
DTSTART;TZID=America/Los_Angeles:20190331T140500
DTEND;TZID=America/Los_Angeles:20190331T173000
DTSTAMP:20260423T090647
CREATED:20190330T105156Z
LAST-MODIFIED:20190330T172050Z
UID:10007996-1554041100-1554053400@live360video.com
SUMMARY:NCAA Elite 8 - Michigan State vs. Duke - Live in VR
DESCRIPTION:Watch the game between Michigan State vs. Duke at the Capital One Arena in DC\, in the Elite 8 of 2019 NCAA March Madness\, live in vr! Turner Sports partners with CBS\, the NCAA\, and Intel\, to release a virtual reality app for the fourth year — NCAA March Madness Live VR using Gear VR and Oculus Go devices.
URL:https://live360video.com/vr-stream/ncaa-elite-8-michigan-state-vs-duke-live-in-vr/
LOCATION:Capital One Arena\, 601 F St NW\, Washington\, Washington DC\, DC 20004\, United States
CATEGORIES:Basketball,Sports
ATTACH;FMTTYPE=image/jpeg:https://live360video.com/wp-content/uploads/2019/03/NCAA-Elite-8-Michigan-State-vs.-Duke-Live-in-VR.jpg
GEO:38.8981248;-77.020963
X-APPLE-STRUCTURED-LOCATION;VALUE=URI;X-ADDRESS=Capital One Arena 601 F St NW Washington Washington DC DC 20004 United States;X-APPLE-RADIUS=500;X-TITLE=601 F St NW:geo:-77.020963,38.8981248
END:VEVENT
END:VCALENDAR