BEGIN:VCALENDAR
VERSION:2.0
PRODID:-//Live 360 Video - ECPv6.1.1//NONSGML v1.0//EN
CALSCALE:GREGORIAN
METHOD:PUBLISH
X-WR-CALNAME:Live 360 Video
X-ORIGINAL-URL:https://live360video.com
X-WR-CALDESC:Events for Live 360 Video
REFRESH-INTERVAL;VALUE=DURATION:PT1H
X-Robots-Tag:noindex
X-PUBLISHED-TTL:PT1H
BEGIN:VTIMEZONE
TZID:America/Los_Angeles
BEGIN:DAYLIGHT
TZOFFSETFROM:-0800
TZOFFSETTO:-0700
TZNAME:PDT
DTSTART:20190310T100000
END:DAYLIGHT
BEGIN:STANDARD
TZOFFSETFROM:-0700
TZOFFSETTO:-0800
TZNAME:PST
DTSTART:20191103T090000
END:STANDARD
END:VTIMEZONE
BEGIN:VEVENT
DTSTART;TZID=America/Los_Angeles:20190402T180000
DTEND;TZID=America/Los_Angeles:20190402T210000
DTSTAMP:20260425T112119
CREATED:20180620T093150Z
LAST-MODIFIED:20190701T083312Z
UID:10007806-1554228000-1554238800@live360video.com
SUMMARY:Gotham Comedy Club - Live in VR
DESCRIPTION:Experience Gotham Comedy Club Live in VR from NextVR. Enjoy standup acts from New York City’s Gotham Comedy Club. Available live in VR using Oculus Go and Gear VR. \n 
URL:https://live360video.com/vr-stream/gotham-comedy-club-live-in-vr-2018-12-06/2019-04-02/
LOCATION:Gotham Comedy Club\, 208 W 23rd St\, New York\, NY\, NY 10011\, United States
CATEGORIES:Comedy,Entertainment
ATTACH;FMTTYPE=image/jpeg:https://live360video.com/wp-content/uploads/2018/06/Gotham-Comedy-Club-Live-in-VR-1.jpg
GEO:40.7440535;-73.9964321
X-APPLE-STRUCTURED-LOCATION;VALUE=URI;X-ADDRESS=Gotham Comedy Club 208 W 23rd St New York NY NY 10011 United States;X-APPLE-RADIUS=500;X-TITLE=208 W 23rd St:geo:-73.9964321,40.7440535
END:VEVENT
BEGIN:VEVENT
DTSTART;TZID=America/Los_Angeles:20190402T190000
DTEND;TZID=America/Los_Angeles:20190403T220000
DTSTAMP:20260425T112119
CREATED:20181022T144143Z
LAST-MODIFIED:20181105T084436Z
UID:10007930-1554231600-1554328800@live360video.com
SUMMARY:Rockets at Kings - Live in VR
DESCRIPTION:Houston Rockets take on Sacramento Kings at the Golden One Center in Sacramento\, California. Experience being courtside in virtual reality for single games or using the NBA League Pass. You can watch this game live in VR via the Next VR App for Oculus Go\, Playstation VR\, HTC Vive\, Gear VR\, Daydream and Windows Mixed Reality VR headsets.
URL:https://live360video.com/vr-stream/rockets-at-kings-live-in-vr/
LOCATION:Golden 1 Center\, 500 David J Stern Walk\, Sacramento\, CA\, CA 95814\, United States
CATEGORIES:Basketball,Sports
ATTACH;FMTTYPE=image/jpeg:https://live360video.com/wp-content/uploads/2018/10/Rockets-at-Kings-Live-in-VR.jpg
GEO:38.5801736;-121.4994802
X-APPLE-STRUCTURED-LOCATION;VALUE=URI;X-ADDRESS=Golden 1 Center 500 David J Stern Walk Sacramento CA CA 95814 United States;X-APPLE-RADIUS=500;X-TITLE=500 David J Stern Walk:geo:-121.4994802,38.5801736
END:VEVENT
BEGIN:VEVENT
DTSTART;TZID=America/Los_Angeles:20190404T160000
DTEND;TZID=America/Los_Angeles:20190404T190000
DTSTAMP:20260425T112119
CREATED:20181022T145128Z
LAST-MODIFIED:20181022T145128Z
UID:10007931-1554393600-1554404400@live360video.com
SUMMARY:Mavericks at Spurs - Live in VR
DESCRIPTION:Dallas Mavericks take on San Antonio Spurs at the AT&T Center in San Antonio\, Texas. Experience being courtside in virtual reality for single games or using the NBA League Pass. You can watch this game live in VR via the Next VR App for Oculus Go\, Playstation VR\, HTC Vive\, Gear VR\, Daydream and Windows Mixed Reality VR headsets.
URL:https://live360video.com/vr-stream/mavericks-at-spurs-live-in-vr/
LOCATION:AT&T Center\, 1 AT&T Center Parkway\, San Antonio\, TX\, TX 78219\, United States
CATEGORIES:Basketball,Sports
ATTACH;FMTTYPE=image/jpeg:https://live360video.com/wp-content/uploads/2018/10/Mavericks-at-Spurs-Live-in-VR.jpg
GEO:29.4270724;-98.4374437
X-APPLE-STRUCTURED-LOCATION;VALUE=URI;X-ADDRESS=AT&T Center 1 AT&T Center Parkway San Antonio TX TX 78219 United States;X-APPLE-RADIUS=500;X-TITLE=1 AT&T Center Parkway:geo:-98.4374437,29.4270724
END:VEVENT
BEGIN:VEVENT
DTSTART;TZID=America/Los_Angeles:20190404T180000
DTEND;TZID=America/Los_Angeles:20190404T210000
DTSTAMP:20260425T112119
CREATED:20180620T093150Z
LAST-MODIFIED:20190701T083312Z
UID:10007807-1554400800-1554411600@live360video.com
SUMMARY:Gotham Comedy Club - Live in VR
DESCRIPTION:Experience Gotham Comedy Club Live in VR from NextVR. Enjoy standup acts from New York City’s Gotham Comedy Club. Available live in VR using Oculus Go and Gear VR. \n 
URL:https://live360video.com/vr-stream/gotham-comedy-club-live-in-vr-2018-12-06/2019-04-04/
LOCATION:Gotham Comedy Club\, 208 W 23rd St\, New York\, NY\, NY 10011\, United States
CATEGORIES:Comedy,Entertainment
ATTACH;FMTTYPE=image/jpeg:https://live360video.com/wp-content/uploads/2018/06/Gotham-Comedy-Club-Live-in-VR-1.jpg
GEO:40.7440535;-73.9964321
X-APPLE-STRUCTURED-LOCATION;VALUE=URI;X-ADDRESS=Gotham Comedy Club 208 W 23rd St New York NY NY 10011 United States;X-APPLE-RADIUS=500;X-TITLE=208 W 23rd St:geo:-73.9964321,40.7440535
END:VEVENT
BEGIN:VEVENT
DTSTART;TZID=America/Los_Angeles:20190406T151000
DTEND;TZID=America/Los_Angeles:20190406T173000
DTSTAMP:20260425T112119
CREATED:20190403T083207Z
LAST-MODIFIED:20190403T083700Z
UID:10008001-1554563400-1554571800@live360video.com
SUMMARY:NCAA Final Four - Virginia vs. Auburn - Live in VR
DESCRIPTION:Watch the game between Virginia Cavaliers vs. Auburn Tigers in the Final Four of the 2019 NCAA March Madness live in vr! Turner Sports partners with CBS\, the NCAA\, and Intel\, to release a virtual reality app for the fourth year — NCAA March Madness Live VR using Gear VR and Oculus Go devices.
URL:https://live360video.com/vr-stream/ncaa-final-four-virginia-vs-auburn-live-in-vr/
LOCATION:U.S. Bank Stadium\, 401 Chicago Ave\, Minneapolis\, MN 55415\, United States
CATEGORIES:Basketball,Sports
ATTACH;FMTTYPE=image/jpeg:https://live360video.com/wp-content/uploads/2019/04/NCAA-Virginia-Cavaliers-vs.-Auburn-Tigers-Live-in-VR.jpg
GEO:44.975054;-93.258179
X-APPLE-STRUCTURED-LOCATION;VALUE=URI;X-ADDRESS=U.S. Bank Stadium 401 Chicago Ave Minneapolis MN 55415 United States;X-APPLE-RADIUS=500;X-TITLE=401 Chicago Ave:geo:-93.258179,44.975054
END:VEVENT
BEGIN:VEVENT
DTSTART;TZID=America/Los_Angeles:20190406T174900
DTEND;TZID=America/Los_Angeles:20190406T200000
DTSTAMP:20260425T112119
CREATED:20190403T083924Z
LAST-MODIFIED:20190403T084048Z
UID:10008004-1554572940-1554580800@live360video.com
SUMMARY:NCAA Final Four - MI State vs. Texas Tech - Live in VR
DESCRIPTION:Watch the game between Michigan State Spartans vs. Texas Tech Red Raiders in the Final Four of the 2019 NCAA March Madness live in vr! Turner Sports partners with CBS\, the NCAA\, and Intel\, to release a virtual reality app for the fourth year — NCAA March Madness Live VR using Gear VR and Oculus Go devices.
URL:https://live360video.com/vr-stream/ncaa-final-four-mi-state-vs-texas-tech-live-in-vr/
LOCATION:U.S. Bank Stadium\, 401 Chicago Ave\, Minneapolis\, MN 55415\, United States
CATEGORIES:Basketball,Sports
ATTACH;FMTTYPE=image/jpeg:https://live360video.com/wp-content/uploads/2019/04/NCAA-MI-State-vs.-Texas-Tech-Live-in-VR.jpg
GEO:44.975054;-93.258179
X-APPLE-STRUCTURED-LOCATION;VALUE=URI;X-ADDRESS=U.S. Bank Stadium 401 Chicago Ave Minneapolis MN 55415 United States;X-APPLE-RADIUS=500;X-TITLE=401 Chicago Ave:geo:-93.258179,44.975054
END:VEVENT
BEGIN:VEVENT
DTSTART;TZID=America/Los_Angeles:20190407T040000
DTEND;TZID=America/Los_Angeles:20190407T080000
DTSTAMP:20260425T112119
CREATED:20190312T105606Z
LAST-MODIFIED:20190313T090250Z
UID:10007976-1554609600-1554624000@live360video.com
SUMMARY:VR League - Echo Combat NA - CUP #3 - Live in VR
DESCRIPTION:Season 3 of VR League is upon us and the next step in the evolution of VR esports\, with this season’s prizes totalling $250\,000 USD. Watch the competition live in vr by using Oculus\, the VR League is home to Echo Arena\, Echo Combat\, Onward\, and Space Junkies.
URL:https://live360video.com/vr-stream/vr-league-echo-combat-na-cup-3-live-in-vr/2019-04-07/1/
CATEGORIES:eSports
ATTACH;FMTTYPE=image/png:https://live360video.com/wp-content/uploads/2019/03/VR-League.png
END:VEVENT
BEGIN:VEVENT
DTSTART;TZID=America/Los_Angeles:20190407T100000
DTEND;TZID=America/Los_Angeles:20190407T140000
DTSTAMP:20260425T112119
CREATED:20190312T105606Z
LAST-MODIFIED:20190313T090250Z
UID:10007977-1554631200-1554645600@live360video.com
SUMMARY:VR League - Echo Combat NA - CUP #3 - Live in VR
DESCRIPTION:Season 3 of VR League is upon us and the next step in the evolution of VR esports\, with this season’s prizes totalling $250\,000 USD. Watch the competition live in vr by using Oculus\, the VR League is home to Echo Arena\, Echo Combat\, Onward\, and Space Junkies.
URL:https://live360video.com/vr-stream/vr-league-echo-combat-na-cup-3-live-in-vr/2019-04-07/2/
CATEGORIES:eSports
ATTACH;FMTTYPE=image/png:https://live360video.com/wp-content/uploads/2019/03/VR-League.png
END:VEVENT
BEGIN:VEVENT
DTSTART;TZID=America/Los_Angeles:20190407T160000
DTEND;TZID=America/Los_Angeles:20190407T190000
DTSTAMP:20260425T112119
CREATED:20190330T111306Z
LAST-MODIFIED:20190330T111306Z
UID:10007999-1554652800-1554663600@live360video.com
SUMMARY:WrestleMania Kickoff Show - Live in VR
DESCRIPTION:Experience the WrestleMania Kickoff Show Live in VR from New York. Watch ringside and enjoy some of the WWE’s best wrestlers. Available exclusively on Oculus Go and Gear VR.
URL:https://live360video.com/vr-stream/wrestlemania-kickoff-show-live-in-vr/
LOCATION:Metlife Stadium\, 1 MetLife Stadium Dr\, East Rutherford\, East Rutherford\, NJ\, NJ 07073\, United States
CATEGORIES:Sports,Wrestling
ATTACH;FMTTYPE=image/jpeg:https://live360video.com/wp-content/uploads/2019/03/WrestleMania-Kickoff-Show-Live-in-VR.jpg
GEO:40.8128437;-74.0742035
X-APPLE-STRUCTURED-LOCATION;VALUE=URI;X-ADDRESS=Metlife Stadium 1 MetLife Stadium Dr East Rutherford East Rutherford NJ NJ 07073 United States;X-APPLE-RADIUS=500;X-TITLE=1 MetLife Stadium Dr\, East Rutherford:geo:-74.0742035,40.8128437
END:VEVENT
END:VCALENDAR