BEGIN:VCALENDAR
VERSION:2.0
PRODID:-//Live 360 Video - ECPv6.1.1//NONSGML v1.0//EN
CALSCALE:GREGORIAN
METHOD:PUBLISH
X-WR-CALNAME:Live 360 Video
X-ORIGINAL-URL:https://live360video.com
X-WR-CALDESC:Events for Live 360 Video
REFRESH-INTERVAL;VALUE=DURATION:PT1H
X-Robots-Tag:noindex
X-PUBLISHED-TTL:PT1H
BEGIN:VTIMEZONE
TZID:America/Los_Angeles
BEGIN:DAYLIGHT
TZOFFSETFROM:-0800
TZOFFSETTO:-0700
TZNAME:PDT
DTSTART:20190310T100000
END:DAYLIGHT
BEGIN:STANDARD
TZOFFSETFROM:-0700
TZOFFSETTO:-0800
TZNAME:PST
DTSTART:20191103T090000
END:STANDARD
END:VTIMEZONE
BEGIN:VEVENT
DTSTART;TZID=America/Los_Angeles:20190408T182000
DTEND;TZID=America/Los_Angeles:20190408T203000
DTSTAMP:20260425T193329
CREATED:20190408T073427Z
LAST-MODIFIED:20190408T073458Z
UID:10008006-1554747600-1554755400@live360video.com
SUMMARY:NCAA Final - Virginia vs. Texas Tech - Live in VR
DESCRIPTION:Watch the game between Virginia Cavaliers vs. Texas Tech Red Raiders in the Final of the 2019 NCAA March Madness\, live in vr! Turner Sports partners with CBS\, the NCAA\, and Intel\, to release a virtual reality app for the fourth year — NCAA March Madness Live VR using Gear VR and Oculus Go devices.
URL:https://live360video.com/vr-stream/ncaa-final-virginia-vs-texas-tech-live-in-vr/
LOCATION:U.S. Bank Stadium\, 401 Chicago Ave\, Minneapolis\, MN 55415\, United States
CATEGORIES:Basketball,Sports
ATTACH;FMTTYPE=image/jpeg:https://live360video.com/wp-content/uploads/2019/04/NCAA-FINAL-Virginia-Cavaliers-vs.-Texas-Tech-Red-Raiders-LIVE-IN-VR.jpg
GEO:44.975054;-93.258179
X-APPLE-STRUCTURED-LOCATION;VALUE=URI;X-ADDRESS=U.S. Bank Stadium 401 Chicago Ave Minneapolis MN 55415 United States;X-APPLE-RADIUS=500;X-TITLE=401 Chicago Ave:geo:-93.258179,44.975054
END:VEVENT
BEGIN:VEVENT
DTSTART;TZID=America/Los_Angeles:20190411T180000
DTEND;TZID=America/Los_Angeles:20190411T210000
DTSTAMP:20260425T193329
CREATED:20180620T093150Z
LAST-MODIFIED:20190701T083312Z
UID:10007808-1555005600-1555016400@live360video.com
SUMMARY:Gotham Comedy Club - Live in VR
DESCRIPTION:Experience Gotham Comedy Club Live in VR from NextVR. Enjoy standup acts from New York City’s Gotham Comedy Club. Available live in VR using Oculus Go and Gear VR. \n 
URL:https://live360video.com/vr-stream/gotham-comedy-club-live-in-vr-2018-12-06/2019-04-11/
LOCATION:Gotham Comedy Club\, 208 W 23rd St\, New York\, NY\, NY 10011\, United States
CATEGORIES:Comedy,Entertainment
ATTACH;FMTTYPE=image/jpeg:https://live360video.com/wp-content/uploads/2018/06/Gotham-Comedy-Club-Live-in-VR-1.jpg
GEO:40.7440535;-73.9964321
X-APPLE-STRUCTURED-LOCATION;VALUE=URI;X-ADDRESS=Gotham Comedy Club 208 W 23rd St New York NY NY 10011 United States;X-APPLE-RADIUS=500;X-TITLE=208 W 23rd St:geo:-73.9964321,40.7440535
END:VEVENT
BEGIN:VEVENT
DTSTART;TZID=America/Los_Angeles:20190413T170000
DTEND;TZID=America/Los_Angeles:20190413T193000
DTSTAMP:20260425T193329
CREATED:20190330T112742Z
LAST-MODIFIED:20190330T112742Z
UID:10008000-1555174800-1555183800@live360video.com
SUMMARY:World of Dance - House of Blues - Live in VR
DESCRIPTION:Watch the World of Dance at the House of Blues in Anaheim\, California\, where contestants will dance their hearts out live in vr in this exclusive free-style dance competition for the the crown of Cypher King and Queen! Exclusively available on Oculus Go and Gear VR.
URL:https://live360video.com/vr-stream/world-of-dance-house-of-blues-live-in-vr/
LOCATION:House of Blues\, 15 Lansdowne St\, Boston\, MA\, MA 02215\, United States
CATEGORIES:Entertainment,Performing Arts
ATTACH;FMTTYPE=image/jpeg:https://live360video.com/wp-content/uploads/2019/03/World-of-Dance-Live-in-VR.jpg
GEO:42.3473545;-71.0956687
X-APPLE-STRUCTURED-LOCATION;VALUE=URI;X-ADDRESS=House of Blues 15 Lansdowne St Boston MA MA 02215 United States;X-APPLE-RADIUS=500;X-TITLE=15 Lansdowne St:geo:-71.0956687,42.3473545
END:VEVENT
BEGIN:VEVENT
DTSTART;TZID=America/Los_Angeles:20190414T040000
DTEND;TZID=America/Los_Angeles:20190414T080000
DTSTAMP:20260425T193329
CREATED:20190313T090140Z
LAST-MODIFIED:20190313T090544Z
UID:10007718-1555214400-1555228800@live360video.com
SUMMARY:VR League - Onward NA - CUP #4 - Live in VR
DESCRIPTION:Season 3 of VR League is upon us and the next step in the evolution of VR esports\, with this season’s prizes totalling $250\,000 USD. Watch the competition live in vr by using Oculus\, the VR League is home to Echo Arena\, Echo Combat\, Onward\, and Space Junkies.
URL:https://live360video.com/vr-stream/vr-league-onward-na-cup-4-live-in-vr/2019-04-14/1/
CATEGORIES:eSports
ATTACH;FMTTYPE=image/png:https://live360video.com/wp-content/uploads/2019/03/VR-League.png
END:VEVENT
BEGIN:VEVENT
DTSTART;TZID=America/Los_Angeles:20190414T040000
DTEND;TZID=America/Los_Angeles:20190414T080000
DTSTAMP:20260425T193329
CREATED:20190313T090719Z
LAST-MODIFIED:20190313T090719Z
UID:10007721-1555214400-1555228800@live360video.com
SUMMARY:VR League - Space Junkies NA / League Day #1 - Live in VR
DESCRIPTION:Season 3 of VR League is upon us and the next step in the evolution of VR esports\, with this season’s prizes totalling $250\,000 USD. Watch the competition live in vr by using Oculus\, the VR League is home to Echo Arena\, Echo Combat\, Onward\, and Space Junkies.
URL:https://live360video.com/vr-stream/vr-league-space-junkies-na-league-day-1-live-in-vr/2019-04-14/1/
CATEGORIES:eSports
ATTACH;FMTTYPE=image/png:https://live360video.com/wp-content/uploads/2019/03/VR-League.png
END:VEVENT
BEGIN:VEVENT
DTSTART;TZID=America/Los_Angeles:20190414T100000
DTEND;TZID=America/Los_Angeles:20190414T140000
DTSTAMP:20260425T193329
CREATED:20190313T090140Z
LAST-MODIFIED:20190313T090544Z
UID:10007719-1555236000-1555250400@live360video.com
SUMMARY:VR League - Onward NA - CUP #4 - Live in VR
DESCRIPTION:Season 3 of VR League is upon us and the next step in the evolution of VR esports\, with this season’s prizes totalling $250\,000 USD. Watch the competition live in vr by using Oculus\, the VR League is home to Echo Arena\, Echo Combat\, Onward\, and Space Junkies.
URL:https://live360video.com/vr-stream/vr-league-onward-na-cup-4-live-in-vr/2019-04-14/2/
CATEGORIES:eSports
ATTACH;FMTTYPE=image/png:https://live360video.com/wp-content/uploads/2019/03/VR-League.png
END:VEVENT
BEGIN:VEVENT
DTSTART;TZID=America/Los_Angeles:20190414T100000
DTEND;TZID=America/Los_Angeles:20190414T140000
DTSTAMP:20260425T193329
CREATED:20190313T090719Z
LAST-MODIFIED:20190313T090719Z
UID:10007722-1555236000-1555250400@live360video.com
SUMMARY:VR League - Space Junkies NA / League Day #1 - Live in VR
DESCRIPTION:Season 3 of VR League is upon us and the next step in the evolution of VR esports\, with this season’s prizes totalling $250\,000 USD. Watch the competition live in vr by using Oculus\, the VR League is home to Echo Arena\, Echo Combat\, Onward\, and Space Junkies.
URL:https://live360video.com/vr-stream/vr-league-space-junkies-na-league-day-1-live-in-vr/2019-04-14/2/
CATEGORIES:eSports
ATTACH;FMTTYPE=image/png:https://live360video.com/wp-content/uploads/2019/03/VR-League.png
END:VEVENT
END:VCALENDAR