BEGIN:VCALENDAR
VERSION:2.0
PRODID:-//Live 360 Video - ECPv6.1.1//NONSGML v1.0//EN
CALSCALE:GREGORIAN
METHOD:PUBLISH
X-WR-CALNAME:Live 360 Video
X-ORIGINAL-URL:https://live360video.com
X-WR-CALDESC:Events for Live 360 Video
REFRESH-INTERVAL;VALUE=DURATION:PT1H
X-Robots-Tag:noindex
X-PUBLISHED-TTL:PT1H
BEGIN:VTIMEZONE
TZID:America/Los_Angeles
BEGIN:DAYLIGHT
TZOFFSETFROM:-0800
TZOFFSETTO:-0700
TZNAME:PDT
DTSTART:20190310T100000
END:DAYLIGHT
BEGIN:STANDARD
TZOFFSETFROM:-0700
TZOFFSETTO:-0800
TZNAME:PST
DTSTART:20191103T090000
END:STANDARD
END:VTIMEZONE
BEGIN:VEVENT
DTSTART;TZID=America/Los_Angeles:20190902T170000
DTEND;TZID=America/Los_Angeles:20190902T190000
DTSTAMP:20260423T001551
CREATED:20190823T083024Z
LAST-MODIFIED:20190903T083804Z
UID:10008034-1567443600-1567450800@live360video.com
SUMMARY:Wood & Wire - In Concert - Live in VR
DESCRIPTION:Grammy-nominated artist Wood & Wire perform their Bluegrass album in an unmissable concert! Available on all NextVR app platforms
URL:https://live360video.com/vr-stream/wood-wire-in-concert-live-in-vr/
CATEGORIES:Concerts & Festivals
ATTACH;FMTTYPE=image/jpeg:https://live360video.com/wp-content/uploads/2019/08/Wood-Wire-Live-in-VR.jpeg
END:VEVENT
BEGIN:VEVENT
DTSTART;TZID=America/Los_Angeles:20190903T170000
DTEND;TZID=America/Los_Angeles:20190903T190000
DTSTAMP:20260423T001551
CREATED:20190823T082037Z
LAST-MODIFIED:20190903T210358Z
UID:10008033-1567530000-1567537200@live360video.com
SUMMARY:Erika Wennerstrom Concert in Austin - Live in VR
DESCRIPTION:Enjoys the inimitable delights of the Erika Wennerstrom concert live in VR from Austin\, Texas! Join the ex Heartless Bastards lead singer on her solo tour and feel like you’re watching from the front row in immersive 3D VR\, exclusively through the NextVR app.
URL:https://live360video.com/vr-stream/erika-wennerstrom-concert-in-austin-live-in-vr/
CATEGORIES:Concerts & Festivals
ATTACH;FMTTYPE=image/png:https://live360video.com/wp-content/uploads/2019/06/Erika-Wennerstrom-In-Concert-Live-in-VR.png
END:VEVENT
BEGIN:VEVENT
DTSTART;TZID=America/Los_Angeles:20190903T173000
DTEND;TZID=America/Los_Angeles:20190903T193000
DTSTAMP:20260423T001551
CREATED:20190903T203945Z
LAST-MODIFIED:20190905T091344Z
UID:10008060-1567531800-1567539000@live360video.com
SUMMARY:Billie Eilish - Live in VR
DESCRIPTION:Experience Billie Eilish’s concert ‘almost’ live in vr\, on her sold out WHEN WE ALL FALL ASLEEP\, WORLD TOUR. Pre-recorded earlier today at the WiZink Center in Madrid\, Spain\, you can watch the show courtesy of Supersphere VR via Oculus Venues.
URL:https://live360video.com/vr-stream/billie-eilish-live-in-vr/
LOCATION:WiZink Center\, Avenida de Felipe II\, s/n\,\, Madrid\, Madrid\, M 28009\, Spain
CATEGORIES:Concerts & Festivals
ATTACH;FMTTYPE=image/png:https://live360video.com/wp-content/uploads/2019/09/Billie-Elish-in-VR.png
GEO:40.424168;-3.6764846
X-APPLE-STRUCTURED-LOCATION;VALUE=URI;X-ADDRESS=WiZink Center Avenida de Felipe II s/n Madrid Madrid M 28009 Spain;X-APPLE-RADIUS=500;X-TITLE=Avenida de Felipe II\, s/n\,:geo:-3.6764846,40.424168
END:VEVENT
BEGIN:VEVENT
DTSTART;TZID=America/Los_Angeles:20190904T170000
DTEND;TZID=America/Los_Angeles:20190904T200000
DTSTAMP:20260423T001551
CREATED:20190823T084750Z
LAST-MODIFIED:20190903T210157Z
UID:10008035-1567616400-1567627200@live360video.com
SUMMARY:UCB: An Evening of Comedy & Magic - Live in VR
DESCRIPTION:UCB: An Evening of Comedy & Magic Live in VR from Sunset Blvd. in Los Angeles\, where the famous UCB Theater fuses two beloved genres for an evening of sketch comedy and magic! Available on NextVR app platforms. \n 
URL:https://live360video.com/vr-stream/ucb-an-evening-of-comedy-magic-live-in-vr/
LOCATION:UCB Theatre\, 555 W 42nd St\, New York\, NY\, NY 10036\, United States
CATEGORIES:Comedy,Entertainment
ATTACH;FMTTYPE=image/png:https://live360video.com/wp-content/uploads/2019/08/UCB-Comedy-Magic-Live-in-VR.png
GEO:40.760855;-73.9977405
X-APPLE-STRUCTURED-LOCATION;VALUE=URI;X-ADDRESS=UCB Theatre 555 W 42nd St New York NY NY 10036 United States;X-APPLE-RADIUS=500;X-TITLE=555 W 42nd St:geo:-73.9977405,40.760855
END:VEVENT
BEGIN:VEVENT
DTSTART;TZID=America/Los_Angeles:20190905T180000
DTEND;TZID=America/Los_Angeles:20190905T210000
DTSTAMP:20260423T001551
CREATED:20190701T083231Z
LAST-MODIFIED:20190903T210620Z
UID:10007784-1567706400-1567717200@live360video.com
SUMMARY:Gotham Comedy Club - Live in VR
DESCRIPTION:Experience the renowned Gotham Comedy Club live in VR from NextVR. Enjoy standup acts from New York City’s Gotham Comedy Club. Available live in VR using Oculus Go and Gear VR.
URL:https://live360video.com/vr-stream/gotham-comedy-club-live-in-vr-3/2019-09-05/
LOCATION:Gotham Comedy Club\, 208 W 23rd St\, New York\, NY\, NY 10011\, United States
CATEGORIES:Comedy,Entertainment
ATTACH;FMTTYPE=image/jpeg:https://live360video.com/wp-content/uploads/2018/06/Gotham-Comedy-Club-Live-in-VR-1.jpg
GEO:40.7440535;-73.9964321
X-APPLE-STRUCTURED-LOCATION;VALUE=URI;X-ADDRESS=Gotham Comedy Club 208 W 23rd St New York NY NY 10011 United States;X-APPLE-RADIUS=500;X-TITLE=208 W 23rd St:geo:-73.9964321,40.7440535
END:VEVENT
BEGIN:VEVENT
DTSTART;TZID=America/Los_Angeles:20190906T170000
DTEND;TZID=America/Los_Angeles:20190906T190000
DTSTAMP:20260423T001551
CREATED:20190827T084239Z
LAST-MODIFIED:20190903T074044Z
UID:10008037-1567789200-1567796400@live360video.com
SUMMARY:SoFar Sounds - Live in VR
DESCRIPTION:Discover SoFar Sounds at a secret New York venue live in vr\, where an underground community of indie bands and artists showcase their feel good rhythms. Available on NextVR app platforms.
URL:https://live360video.com/vr-stream/sofar-sounds-live-in-vr-3/2019-09-06/
CATEGORIES:Concerts & Festivals
ATTACH;FMTTYPE=image/jpeg:https://live360video.com/wp-content/uploads/2019/08/SoFar-Sounds-Live-in-VR.jpeg
END:VEVENT
BEGIN:VEVENT
DTSTART;TZID=America/Los_Angeles:20190907T170000
DTEND;TZID=America/Los_Angeles:20190907T190000
DTSTAMP:20260423T001551
CREATED:20190823T105915Z
LAST-MODIFIED:20190903T074127Z
UID:10008036-1567875600-1567882800@live360video.com
SUMMARY:Hirie in Concert - Live in VR
DESCRIPTION:Transport yourself into the Fox Theater in Colorado for the HIRIE concert\, live in vr. Move to the beat of this popular reggae artist as she performs some of her best known songs! Available on all NextVR platforms.
URL:https://live360video.com/vr-stream/hirie-in-concert-live-in-vr/
LOCATION:The Fox Theater\, 1135 13th St\, Boulder\, CO\, CO 80302\, United States
CATEGORIES:Concerts & Festivals
ATTACH;FMTTYPE=image/png:https://live360video.com/wp-content/uploads/2019/08/Hirie-in-Concert-Live-in-VR.png
GEO:40.008054;-105.276381
X-APPLE-STRUCTURED-LOCATION;VALUE=URI;X-ADDRESS=The Fox Theater 1135 13th St Boulder CO CO 80302 United States;X-APPLE-RADIUS=500;X-TITLE=1135 13th St:geo:-105.276381,40.008054
END:VEVENT
BEGIN:VEVENT
DTSTART;TZID=America/Los_Angeles:20190908T170000
DTEND;TZID=America/Los_Angeles:20190908T190000
DTSTAMP:20260423T001551
CREATED:20190806T085528Z
LAST-MODIFIED:20190903T074244Z
UID:10008032-1567962000-1567969200@live360video.com
SUMMARY:jackLNDN - Live in VR
DESCRIPTION:Unwind your mind with the Balearic sound of jackLNDN as he performs live in VR at the reputed Halcyon Club in San Francisco. Available exclusively using Oculus Go and Gear VR. \n 
URL:https://live360video.com/vr-stream/jacklndn-live-in-vr/2019-09-08/
LOCATION:Halcyon Club SF\, 314 11th St\, San Francisco\, CA\, CA 94103\, United States
CATEGORIES:Concerts & Festivals
ATTACH;FMTTYPE=image/png:https://live360video.com/wp-content/uploads/2019/08/jackLNDN-Live-in-VR.png
GEO:37.771465;-122.4139198
X-APPLE-STRUCTURED-LOCATION;VALUE=URI;X-ADDRESS=Halcyon Club SF 314 11th St San Francisco CA CA 94103 United States;X-APPLE-RADIUS=500;X-TITLE=314 11th St:geo:-122.4139198,37.771465
END:VEVENT
END:VCALENDAR