BEGIN:VCALENDAR
VERSION:2.0
PRODID:-//Live 360 Video - ECPv6.1.1//NONSGML v1.0//EN
CALSCALE:GREGORIAN
METHOD:PUBLISH
X-ORIGINAL-URL:https://live360video.com
X-WR-CALDESC:Events for Live 360 Video
REFRESH-INTERVAL;VALUE=DURATION:PT1H
X-Robots-Tag:noindex
X-PUBLISHED-TTL:PT1H
BEGIN:VTIMEZONE
TZID:America/Los_Angeles
BEGIN:DAYLIGHT
TZOFFSETFROM:-0800
TZOFFSETTO:-0700
TZNAME:PDT
DTSTART:20190310T100000
END:DAYLIGHT
BEGIN:STANDARD
TZOFFSETFROM:-0700
TZOFFSETTO:-0800
TZNAME:PST
DTSTART:20191103T090000
END:STANDARD
END:VTIMEZONE
BEGIN:VEVENT
DTSTART;TZID=America/Los_Angeles:20190930T170000
DTEND;TZID=America/Los_Angeles:20190930T190000
DTSTAMP:20260422T175742
CREATED:20190903T083213Z
LAST-MODIFIED:20190903T083213Z
UID:10008058-1569862800-1569870000@live360video.com
SUMMARY:Best of the NBA Finals - Live in VR
DESCRIPTION:Relive the best moments from the previous three NBA Championships court-side live in VR. Available on NextVR app platforms.
URL:https://live360video.com/vr-stream/best-of-the-nba-finals-live-in-vr/
CATEGORIES:Basketball,Sports
ATTACH;FMTTYPE=image/png:https://live360video.com/wp-content/uploads/2019/09/Best-of-NBA-Live-in-VR.png
END:VEVENT
END:VCALENDAR