BEGIN:VCALENDAR
VERSION:2.0
PRODID:-//Live 360 Video - ECPv6.1.1//NONSGML v1.0//EN
CALSCALE:GREGORIAN
METHOD:PUBLISH
X-WR-CALNAME:Live 360 Video
X-ORIGINAL-URL:https://live360video.com
X-WR-CALDESC:Events for Live 360 Video
REFRESH-INTERVAL;VALUE=DURATION:PT1H
X-Robots-Tag:noindex
X-PUBLISHED-TTL:PT1H
BEGIN:VTIMEZONE
TZID:America/Los_Angeles
BEGIN:DAYLIGHT
TZOFFSETFROM:-0800
TZOFFSETTO:-0700
TZNAME:PDT
DTSTART:20190310T100000
END:DAYLIGHT
BEGIN:STANDARD
TZOFFSETFROM:-0700
TZOFFSETTO:-0800
TZNAME:PST
DTSTART:20191103T090000
END:STANDARD
END:VTIMEZONE
BEGIN:VEVENT
DTSTART;TZID=America/Los_Angeles:20191207T180000
DTEND;TZID=America/Los_Angeles:20191207T210000
DTSTAMP:20260425T165507
CREATED:20191014T090909Z
LAST-MODIFIED:20191014T102010Z
UID:10008072-1575741600-1575752400@live360video.com
SUMMARY:Memphis Grizzlies at Utah Jazz - Live in VR
DESCRIPTION:The Grizzlies take on Utah Jazz at the Vivint Arena in Salt Lake City\, Utah. This game is available live in vr on all NextVR platforms with a NBA League Pass subscription.
URL:https://live360video.com/vr-stream/memphis-grizzlies-at-utah-jazz-live-in-vr/
LOCATION:Vivint Smart Home Arena\, 301 S Temple\, Salt Lake City\, UT\, UT 84101\, United States
CATEGORIES:Basketball,Sports
ATTACH;FMTTYPE=image/jpeg:https://live360video.com/wp-content/uploads/2019/10/Memphis-Grizzlies-at-Utah-Jazz-Live-in-VR.jpeg
GEO:40.7682547;-111.9011016
X-APPLE-STRUCTURED-LOCATION;VALUE=URI;X-ADDRESS=Vivint Smart Home Arena 301 S Temple Salt Lake City UT UT 84101 United States;X-APPLE-RADIUS=500;X-TITLE=301 S Temple:geo:-111.9011016,40.7682547
END:VEVENT
END:VCALENDAR