BEGIN:VCALENDAR
VERSION:2.0
PRODID:-//Live 360 Video - ECPv6.1.1//NONSGML v1.0//EN
CALSCALE:GREGORIAN
METHOD:PUBLISH
X-WR-CALNAME:Live 360 Video
X-ORIGINAL-URL:https://live360video.com
X-WR-CALDESC:Events for Live 360 Video
REFRESH-INTERVAL;VALUE=DURATION:PT1H
X-Robots-Tag:noindex
X-PUBLISHED-TTL:PT1H
BEGIN:VTIMEZONE
TZID:America/Los_Angeles
BEGIN:DAYLIGHT
TZOFFSETFROM:-0800
TZOFFSETTO:-0700
TZNAME:PDT
DTSTART:20190310T100000
END:DAYLIGHT
BEGIN:STANDARD
TZOFFSETFROM:-0700
TZOFFSETTO:-0800
TZNAME:PST
DTSTART:20191103T090000
END:STANDARD
END:VTIMEZONE
BEGIN:VEVENT
DTSTART;TZID=America/Los_Angeles:20191219T170000
DTEND;TZID=America/Los_Angeles:20191219T190000
DTSTAMP:20260425T155432
CREATED:20191202T103421Z
LAST-MODIFIED:20191202T103421Z
UID:10008096-1576774800-1576782000@live360video.com
SUMMARY:Moscow Ballet's Great Russian Nutcracker - Live in VR
DESCRIPTION:Experience the Moscow Ballet live in VR as part of their North American tour performance in Pasadena\, California. Enjoy all the fun and beauty of Tchaikovsky’s Nutcracker. Exclusively available on Oculus Quest\, Go and Gear VR.
URL:https://live360video.com/vr-stream/moscow-ballets-great-russian-nutcracker-live-in-vr/2019-12-19/
LOCATION:Pasadena Civic Auditorium\, 300 E Green St\, Pasadena\, CA\, CA 91101\, United States
CATEGORIES:Entertainment,Performing Arts
ATTACH;FMTTYPE=image/jpeg:https://live360video.com/wp-content/uploads/2019/12/Moscow-Ballets-Great-Russian-Nutcracker-Live-in-VR.jpeg
GEO:34.1436155;-118.1445379
X-APPLE-STRUCTURED-LOCATION;VALUE=URI;X-ADDRESS=Pasadena Civic Auditorium 300 E Green St Pasadena CA CA 91101 United States;X-APPLE-RADIUS=500;X-TITLE=300 E Green St:geo:-118.1445379,34.1436155
END:VEVENT
BEGIN:VEVENT
DTSTART;TZID=America/Los_Angeles:20191221T173000
DTEND;TZID=America/Los_Angeles:20191221T203000
DTSTAMP:20260425T155432
CREATED:20191014T095922Z
LAST-MODIFIED:20191014T102043Z
UID:10008084-1576949400-1576960200@live360video.com
SUMMARY:LA Clippers at San Antonio Spurs - Live in VR
DESCRIPTION:The LA Clippers take on San Antonio Spurs at the AT&T Center in San Antonio\, Texas. This game is available live in vr on all NextVR platforms with a NBA League Pass subscription.
URL:https://live360video.com/vr-stream/la-clippers-at-san-antonio-spurs-live-in-vr/
LOCATION:AT&T Center\, 1 AT&T Center Parkway\, San Antonio\, TX\, TX 78219\, United States
CATEGORIES:Basketball,Sports
ATTACH;FMTTYPE=image/jpeg:https://live360video.com/wp-content/uploads/2019/10/LA-Clippers-at-San-Antonio-Spurs-Live-in-VR.jpeg
GEO:29.4270724;-98.4374437
X-APPLE-STRUCTURED-LOCATION;VALUE=URI;X-ADDRESS=AT&T Center 1 AT&T Center Parkway San Antonio TX TX 78219 United States;X-APPLE-RADIUS=500;X-TITLE=1 AT&T Center Parkway:geo:-98.4374437,29.4270724
END:VEVENT
END:VCALENDAR